Workbook

Sheet IB
A1: 2020年度
A2: 霍州市基础信息表
B5: 单位名称 | C5: 霍州市财政局
B6: 单位负责人 | C6: 李新平
B7: 处（科、股）负责人 | C7: 乔冠华
B8: 经办人 | C8: 乔冠华
B9: 联系电话 | C9: 0357-5624753
B10: 单位地址 | C10: 山西省临汾市霍州市开元街永康路口
B11: 单位邮编 | C11: 031400
B12: 单位级次 | C12: 区县级
B13: 所在地区类型 | C13: 省
B14: 地区属性 | C14: 中部
B15: 计划单列市属性 | C15: 无
B16: 自治州属性 | C16: 无
... B21: 省直属县 | C21: 否
B22: 区域面积 | C22: 765 | D22: (平方公里)
B23: 行政区划代码 | C23: 141082

Sheet ML
A1: 录 入 表 目 录
B3: 表号 | C3: 表名 | D3: 页码
B5: IB | C5: 基础信息表 | D5: =A36+1 -> 1
B7: 录入01表 | C7: 一般公共预算收入决算录入表 | D7: 0 | E7: 第一部分:一般公共预算
B8: 录入02表 | C8: 一般公共预算支出决算功能分类录入表 | D8: 0
B9: 录入03表 | C9: 一般公共预算(基本)支出预算经济分类录入表 | D9: 0
B10: 录入04表 | C10: 一般公共预算(基本)支出决算经济分类录入表 | D10: 0
B11: 录入05表 | C11: 一般公共预算转移性收支决算录入表 | D11: 0
B12: 录入06表 | C12: 一般公共预算收入预算变动情况录入表 | D12: 0
B13: 录入07表 | C13: 一般公共预算支出预算变动及结余、结转情况录入表 | D13: 0
B15: 录入08表 | C15: 政府性基金预算收入决算录入表 | D15: 0 | E15: 第二部分:政府性基金预算
B16: 录入09表 | C16: 政府性基金预算支出决算功能分类录入表 | D16: 0
B17: 录入10表 | C17: 政府性基金预算收支及结余情况录入表 | D17: 0
B18: 录入11表 | C18: 政府性基金预算转移性收支决算录入表 | D18: 0
B19: 录入12表 | C19: 政府性基金预算收入预算变动情况录入表 | D19: 0
B20: 录入13表 | C20: 政府性基金预算支出预算变动情况录入表 | D20: 0
B22: 录入14表 | C22: 国有资本经营预算收支决算录入表 | D22: 0 | E22: 第三部分:国有资本经营预算
B23: 录入15表 | C23: 国有资本经营预算转移性收支决算录入表 | D23: 0
B25: 录入16表 | C25: 社会保险基金预算收支及结余情况录入表 | D25: 0 | E25: 第四部分:政府性收支及资产负债情况
B26: 录入17表 | C26: 预算资金年终资产负债录入表 | D26: 0
B27: 录入18表 | C27: 地方政府债务余额情况录入表 | D27: 0
B28: 录入19表 | C28: 地方政府专项债务分项目余额情况录入表 | D28: 0
B30: 录入20表 | C30: 乡镇一般公共预算收支决算录入表 | D30: 0 | E30: 第五部分:补充资料
B31: 录入21表 | C31: 乡镇政府性基金预算收支决算录入表 | D31: 0
B32: 录入22表 | C32: 乡镇国有资本经营预算收支决算录入表 | D32: 0
B33: 录入23表 | C33: 基本数字录入表 | D33: 0
B34: 录入24表 | C34: 相关指标录入表 | D34: 0
A36: 0

Sheet sheet1
A9: 第一部分:一般公共预算

Sheet L01
A1: 2020年度霍州市一般公共预算收入决算录入表
A2: 录入01表
A3: 单位:万元
A4: 科目编码 | B4: 科目名称 | C4: 决算数
B5: 一般公共预算收入 | C5: =SUM(C6,C359) -> 48775
A6: 101 | B6: 税收收入 | C6: =C7+C55+C75+C198+C263+C271+C276+C290+C299+C305+C314+C323+C326+C329+C332+C343+C347+C350+C353+C356 -> 38362
A7: 10101 | B7: 增值税 | C7: =SUM(C8,C33,C37,C40,C52) -> 16865
A8: 1010101 | B8: 国内增值税 | C8: =SUM(C9:C32) -> 13790
A9: 101010101 | B9: 国有企业增值税 | C9: 2250
A10: 101010102 | B10: 集体企业增值税 | C10: 3
A11: 101010103 | B11: 股份制企业增值税 | C11: 7943
A12: 101010104 | B12: 联营企业增值税 | C12: 0
A13: 101010105 | B13: 港澳台和外商投资企业增值税 | C13: 1950
A14: 101010106 | B14: 私营企业增值税 | C14: 1593
A15: 101010119 | B15: 其他增值税 | C15: 129
A16: 101010120 | B16: 增值税税款滞纳金、罚款收入 | C16: 9
A17: 101010121 | B17: 残疾人就业增值税退税 | C17: 0
A18: 101010122 | B18: 软件增值税退税 | C18: 0
A19: 101010125 | B19: 宣传文化单位增值税退税 | C19: 0
A20: 101010127 | B20: 核电站增值税退税 | C20: 0
... A32: 101010153 | B32: 成品油价格和税费改革增值税划入 | C32: 0
A33: 1010102 | B33: 进口货物增值税(项) | C33: =SUM(C34:C36) -> 0
A34: 101010201 | B34: 进口货物增值税(目) | C34: 0
A35: 101010220 | B35: 进口货物增值税税款滞纳金、罚款收入 | C35: 0
A36: 101010221 | B36: 进口货物退增值税 | C36: 0
A37: 1010103 | B37: 出口货物退增值税(项) | C37: =C38+C39 -> 0
A38: 101010301 | B38: 出口货物退增值税(目) | C38: 0
A39: 101010302 | B39: 免抵调减增值税 | C39: 0
A40: 1010104 | B40: 改征增值税(项) | C40: =SUM(C41:C51) -> 3075
A41: 101010401 | B41: 改征增值税(目) | C41: 3078
A42: 101010402 | B42: 中国铁路总公司改征增值税待分配收入 | C42: 0
A43: 101010403 | B43: 中国铁路总公司改征增值税收入 | C43: 0
A44: 101010420 | B44: 改征增值税税款滞纳金、罚款收入 | C44: 5
A45: 101010421 | B45: 管道运输增值税退税 | C45: 0
A46: 101010422 | B46: 融资租赁增值税退税 | C46: 0
A47: 101010426 | B47: 改征增值税留抵退税 | C47: -8
A48: 101010427 | B48: 改征增值税留抵退税省级调库 | C48: 0
A49: 101010428 | B49: 改征增值税留抵退税省级以下调库 | C49: 0
A50: 101010429 | B50: 其他改征增值税国内退税 | C50: 0
A51: 101010461 | B51: 免抵调增改征增值税 | C51: 0
...

Sheet L02
A1: 2020年度霍州市一般公共预算支出决算功能分类录入表
A2: 录入02表
A3: 单位：万元
A4: 科目编码 | B4: 科目名称 | C4: 决算数
B5: 一般公共预算支出 | C5: =SUM(C6,C250,C290,C309,C400,C454,C508,C565,C686,C758,C836,C859,C970,C1034,C1101,C1121,C1151,C1161,C1206,C1226,C1280,C1337,C1340,C1348) -> 181433
A6: 201 | B6: 一般公共服务支出 | C6: =SUM(C7+C19+C28+C39+C50+C61+C72+C84+C93+C106+C116+C125+C136+C149+C156+C164+C170+C177+C184+C191+C198+C205+C213+C219+C225+C232+C247) -> 21930
A7: 20101 | B7: 人大事务 | C7: =SUM(C8:C18) -> 379
A8: 2010101 | B8: 行政运行 | C8: 278
A9: 2010102 | B9: 一般行政管理事务 | C9: 0
A10: 2010103 | B10: 机关服务 | C10: 0
A11: 2010104 | B11: 人大会议 | C11: 11
A12: 2010105 | B12: 人大立法 | C12: 0
A13: 2010106 | B13: 人大监督 | C13: 0
A14: 2010107 | B14: 人大代表履职能力提升 | C14: 0
A15: 2010108 | B15: 代表工作 | C15: 31
A16: 2010109 | B16: 人大信访工作 | C16: 0
A17: 2010150 | B17: 事业运行 | C17: 34
A18: 2010199 | B18: 其他人大事务支出 | C18: 25
A19: 20102 | B19: 政协事务 | C19: =SUM(C20:C27) -> 228
A20: 2010201 | B20: 行政运行 | C20: 181
A21: 2010202 | B21: 一般行政管理事务 | C21: 0
A22: 2010203 | B22: 机关服务 | C22: 0
A23: 2010204 | B23: 政协会议 | C23: 13
A24: 2010205 | B24: 委员视察 | C24: 0
A25: 2010206 | B25: 参政议政 | C25: 9
A26: 2010250 | B26: 事业运行 | C26: 25
A27: 2010299 | B27: 其他政协事务支出 | C27: 0
A28: 20103 | B28: 政府办公厅(室)及相关机构事务 | C28: =SUM(C29:C38) -> 9224
A29: 2010301 | B29: 行政运行 | C29: 4671
A30: 2010302 | B30: 一般行政管理事务 | C30: 20
A31: 2010303 | B31: 机关服务 | C31: 0
A32: 2010304 | B32: 专项服务 | C32: 0
A33: 2010305 | B33: 专项业务活动 | C33: 0
A34: 2010306 | B34: 政务公开审批 | C34: 623
A35: 2010308 | B35: 信访事务 | C35: 170
A36: 2010309 | B36: 参事事务 | C36: 0
A37: 2010350 | B37: 事业运行 | C37: 1842
A38: 2010399 | B38: 其他政府办公厅(室)及相关机构事务支出 | C38: 1898
A39: 20104 | B39: 发展与改革事务 | C39: =SUM(C40:C49) -> 655
A40: 2010401 | B40: 行政运行 | C40: 217
...

Sheet L03
A1: 2020年霍州市一般公共预算(基本)支出预算经济分类录入表
F2: 录入03表
F3: 单位:万元
A4: 科目编码 | B4: 科目名称 | C4: 预算数 | E4: 调整预算数
C5: 一般公共预算支出 | D5: 一般公共预算基本支出 | E5: 一般公共预算支出 | F5: 一般公共预算基本支出
B6: 一般公共预算支出 | C6: =SUM(C7,C12,C23,C31,C38,C42,C45,C49,C52,C58,C61,C66) -> 163418 | D6: =SUM(D7,D12,D23,D31,D38,D42,D45,D49,D52,D58,D61,D66) -> 57170 | E6: =SUM(E7,E12,E23,E31,E38,E42,E45,E49,E52,E58,E61,E66) -> 196591 | F6: =SUM(F7,F12,F23,F31,F38,F42,F45,F49,F52,F58,F61,F66) -> 57170
A7: 501 | B7: 机关工资福利支出 | C7: 13636 | D7: =SUM(D8:D11) -> 12821 | E7: 14362 | F7: =SUM(F8:F11) -> 12821
A8: 50101 | B8: 工资奖金津补贴 | C8: 9626 | D8: 9337 | E8: 10633 | F8: 9337
A9: 50102 | B9: 社会保障缴费 | C9: 1840 | D9: 1796 | E9: 1810 | F9: 1796
A10: 50103 | B10: 住房公积金 | C10: 890 | D10: 855 | E10: 855 | F10: 855
A11: 50199 | B11: 其他工资福利支出 | C11: 1280 | D11: 833 | E11: 1064 | F11: 833
A12: 502 | B12: 机关商品和服务支出 | C12: 17110 | D12: =SUM(D13:D22) -> 1462 | E12: 12247 | F12: =SUM(F13:F22) -> 1462
A13: 50201 | B13: 办公经费 | C13: 4937 | D13: 1320 | E13: 4132 | F13: 1320
A14: 50202 | B14: 会议费 | C14: 76 | D14: 0 | E14: 36 | F14: 0
A15: 50203 | B15: 培训费 | C15: 168 | D15: 0 | E15: 111 | F15: 0
A16: 50204 | B16: 专用材料购置费 | C16: 240 | D16: 0 | E16: 149 | F16: 0
A17: 50205 | B17: 委托业务费 | C17: 5151 | D17: 18 | E17: 4476 | F17: 18
A18: 50206 | B18: 公务接待费 | C18: 135 | D18: 0 | E18: 13 | F18: 0
A19: 50207 | B19: 因公出国(境)费用 | C19: 0 | D19: 0 | E19: 0 | F19: 0
A20: 50208 | B20: 公务用车运行维护费 | C20: 101 | D20: 98 | E20: 335 | F20: 98
A21: 50209 | B21: 维修(护)费 | C21: 2520 | D21: 17 | E21: 2292 | F21: 17
A22: 50299 | B22: 其他商品和服务支出 | C22: 3782 | D22: 9 | E22: 703 | F22: 9
A23: 503 | B23: 机关资本性支出(一) | C23: 5587 | D23: =SUM(D24:D30) -> 35 | E23: 18477 | F23: =SUM(F24:F30) -> 35
A24: 50301 | B24: 房屋建筑物购建 | C24: 100 | D24: 0 | E24: 523 | F24: 0
A25: 50302 | B25: 基础设施建设 | C25: 3729 | D25: 0 | E25: 9599 | F25: 0
A26: 50303 | B26: 公务用车购置 | C26: 40 | D26: 1 | E26: 88 | F26: 1
A27: 50305 | B27: 土地征迁补偿和安置支出 | C27: 337 | D27: 0 | E27: 359 | F27: 0
A28: 50306 | B28: 设备购置 | C28: 373 | D28: 34 | E28: 5187 | F28: 34
A29: 50307 | B29: 大型修缮 | C29: 665 | D29: 0 | E29: 1913 | F29: 0
A30: 50399 | B30: 其他资本性支出 | C30: 343 | D30: 0 | E30: 808 | F30: 0
A31: 504 | B31: 机关资本性支出(二) | C31: 1368 | D31: =SUM(D32:D37) -> 0 | E31: 5430 | F31: =SUM(F32:F37) -> 0
A32: 50401 | B32: 房屋建筑物购建 | C32: 206 | D32: 0 | E32: 284 | F32: 0
A33: 50402 | B33: 基础设施建设 | C33: 938 | D33: 0 | E33: 5110 | F33: 0
A34: 50403 | B34: 公务用车购置 | C34: 0 | D34: 0 | E34: 0 | F34: 0
A35: 50404 | B35: 设备购置 | C35: 224 | D35: 0 | E35: 36 | F35: 0
A36: 50405 | B36: 大型修缮 | C36: 0 | D36: 0 | E36: 0 | F36: 0
A37: 50499 | B37: 其他资本性支出 | C37: 0 | D37: 0 | E37: 0 | F37: 0
A38: 505 | B38: 对事业单位经常性补助 | C38: 71263 | D38: =SUM(D39:D41) -> 39623 | E38: 80510 | F38: =SUM(F39:F41) -> 39623
A39: 50501 | B39: 工资福利支出 | C39: 51315 | D39: 38982 | E39: 48908 | F39: 38982
A40: 50502 | B40: 商品和服务支出 | C40: 19948 | D40: 641 | E40: 31582 | F40: 641
...

Sheet L04
A1: 2020年霍州市一般公共预算(基本)支出决算经济分类录入表
H2: 录入04表
H3: 单位:万元
A4: 科目编码 | B4: 科目名称 | C4: 一般公共预算支出 | F4: 一般公共预算基本支出
D5: 财政拨款列支数 | E5: 财政权责发生制列支数 | G5: 财政拨款列支数 | H5: 财政权责发生制列支数
B6: 一般公共预算支出 | C6: =C7+C12+C23+C31+C38+C42+C45+C49+C52+C58+C61+C66 -> 181433 | D6: =D7+D12+D23+D31+D38+D42+D45+D49+D52+D58+D61+D66 -> 178318 | E6: =E7+E12+E23+E31+E38+E42+E45+E49+E52+E58+E61+E66 -> 3115 | F6: =F7+F12+F23+F31+F38+F42+F45+F49+F52+F58+F61+F66 -> 57170 | G6: =SUM(G7,G12,G23,G31,G38,G42,G45,G49,G52,G58,G61,G66) -> 57170 | H6: =SUM(H7,H12,H23,H31,H38,H42,H45,H49,H52,H58,H61,H66) -> 0
A7: 501 | B7: 机关工资福利支出 | C7: =SUM(C8:C11) -> 14336 | D7: =SUM(D8:D11) -> 14336 | E7: =SUM(E8:E11) -> 0 | F7: =SUM(F8:F11) -> 12821 | G7: =SUM(G8:G11) -> 12821 | H7: =SUM(H8:H11) -> 0
A8: 50101 | B8: 工资奖金津补贴 | C8: =D8+E8 -> 10633 | D8: 10633 | E8: 0 | F8: =G8+H8 -> 9337 | G8: 9337 | H8: 0
A9: 50102 | B9: 社会保障缴费 | C9: =D9+E9 -> 1810 | D9: 1810 | E9: 0 | F9: =G9+H9 -> 1796 | G9: 1796 | H9: 0
A10: 50103 | B10: 住房公积金 | C10: =D10+E10 -> 855 | D10: 855 | E10: 0 | F10: =G10+H10 -> 855 | G10: 855 | H10: 0
A11: 50199 | B11: 其他工资福利支出 | C11: =D11+E11 -> 1038 | D11: 1038 | E11: 0 | F11: =G11+H11 -> 833 | G11: 833 | H11: 0
A12: 502 | B12: 机关商品和服务支出 | C12: =SUM(C13:C22) -> 11229 | D12: =SUM(D13:D22) -> 11209 | E12: =SUM(E13:E22) -> 20 | F12: =SUM(F13:F22) -> 1462 | G12: =SUM(G13:G22) -> 1462 | H12: =SUM(H13:H22) -> 0
A13: 50201 | B13: 办公经费 | C13: =D13+E13 -> 4132 | D13: 4132 | E13: 0 | F13: =G13+H13 -> 1320 | G13: 1320 | H13: 0
A14: 50202 | B14: 会议费 | C14: =D14+E14 -> 36 | D14: 36 | E14: 0 | F14: =G14+H14 -> 0 | G14: 0 | H14: 0
A15: 50203 | B15: 培训费 | C15: =D15+E15 -> 111 | D15: 111 | E15: 0 | F15: =G15+H15 -> 0 | G15: 0 | H15: 0
A16: 50204 | B16: 专用材料购置费 | C16: =D16+E16 -> 149 | D16: 139 | E16: 10 | F16: =G16+H16 -> 0 | G16: 0 | H16: 0
A17: 50205 | B17: 委托业务费 | C17: =D17+E17 -> 4476 | D17: 4476 | E17: 0 | F17: =G17+H17 -> 18 | G17: 18 | H17: 0
A18: 50206 | B18: 公务接待费 | C18: =D18+E18 -> 13 | D18: 13 | E18: 0 | F18: =G18+H18 -> 0 | G18: 0 | H18: 0
A19: 50207 | B19: 因公出国(境)费用 | C19: =D19+E19 -> 0 | D19: 0 | E19: 0 | F19: =G19+H19 -> 0 | G19: 0 | H19: 0
A20: 50208 | B20: 公务用车运行维护费 | C20: =D20+E20 -> 335 | D20: 335 | E20: 0 | F20: =G20+H20 -> 98 | G20: 98 | H20: 0
A21: 50209 | B21: 维修(护)费 | C21: =D21+E21 -> 1274 | D21: 1274 | E21: 0 | F21: =G21+H21 -> 17 | G21: 17 | H21: 0
A22: 50299 | B22: 其他商品和服务支出 | C22: =D22+E22 -> 703 | D22: 693 | E22: 10 | F22: =G22+H22 -> 9 | G22: 9 | H22: 0
A23: 503 | B23: 机关资本性支出(一) | C23: =SUM(C24:C30) -> 11477 | D23: =SUM(D24:D30) -> 10458 | E23: =SUM(E24:E30) -> 1019 | F23: =SUM(F24:F30) -> 35 | G23: =SUM(G24:G30) -> 35 | H23: =SUM(H24:H30) -> 0
A24: 50301 | B24: 房屋建筑物购建 | C24: =D24+E24 -> 523 | D24: 523 | E24: 0 | F24: =G24+H24 -> 0 | G24: 0 | H24: 0
A25: 50302 | B25: 基础设施建设 | C25: =D25+E25 -> 4599 | D25: 3760 | E25: 839 | F25: =G25+H25 -> 0 | G25: 0 | H25: 0
A26: 50303 | B26: 公务用车购置 | C26: =D26+E26 -> 88 | D26: 88 | E26: 0 | F26: =G26+H26 -> 1 | G26: 1 | H26: 0
A27: 50305 | B27: 土地征迁补偿和安置支出 | C27: =D27+E27 -> 359 | D27: 359 | E27: 0 | F27: =G27+H27 -> 0 | G27: 0 | H27: 0
A28: 50306 | B28: 设备购置 | C28: =D28+E28 -> 3187 | D28: 3067 | E28: 120 | F28: =G28+H28 -> 34 | G28: 34 | H28: 0
A29: 50307 | B29: 大型修缮 | C29: =D29+E29 -> 1913 | D29: 1853 | E29: 60 | F29: =G29+H29 -> 0 | G29: 0 | H29: 0
A30: 50399 | B30: 其他资本性支出 | C30: =D30+E30 -> 808 | D30: 808 | E30: 0 | F30: =G30+H30 -> 0 | G30: 0 | H30: 0
A31: 504 | B31: 机关资本性支出(二) | C31: =SUM(C32:C37) -> 4489 | D31: =SUM(D32:D37) -> 4489 | E31: =SUM(E32:E37) -> 0 | F31: =SUM(F32:F37) -> 0 | G31: =SUM(G32:G37) -> 0 | H31: =SUM(H32:H37) -> 0
A32: 50401 | B32: 房屋建筑物购建 | C32: =D32+E32 -> 284 | D32: 284 | E32: 0 | F32: =G32+H32 -> 0 | G32: 0 | H32: 0
A33: 50402 | B33: 基础设施建设 | C33: =D33+E33 -> 4169 | D33: 4169 | E33: 0 | F33: =G33+H33 -> 0 | G33: 0 | H33: 0
A34: 50403 | B34: 公务用车购置 | C34: =D34+E34 -> 0 | D34: 0 | E34: 0 | F34: =G34+H34 -> 0 | G34: 0 | H34: 0
A35: 50404 | B35: 设备购置 | C35: =D35+E35 -> 36 | D35: 36 | E35: 0 | F35: =G35+H35 -> 0 | G35: 0 | H35: 0
A36: 50405 | B36: 大型修缮 | C36: =D36+E36 -> 0 | D36: 0 | E36: 0 | F36: =G36+H36 -> 0 | G36: 0 | H36: 0
A37: 50499 | B37: 其他资本性支出 | C37: =D37+E37 -> 0 | D37: 0 | E37: 0 | F37: =G37+H37 -> 0 | G37: 0 | H37: 0
A38: 505 | B38: 对事业单位经常性补助 | C38: =SUM(C39:C41) -> 79134 | D38: =SUM(D39:D41) -> 77903 | E38: =SUM(E39:E41) -> 1231 | F38: =SUM(F39:F41) -> 39623 | G38: =SUM(G39:G41) -> 39623 | H38: =SUM(H39:H41) -> 0
A39: 50501 | B39: 工资福利支出 | C39: =D39+E39 -> 48718 | D39: 48718 | E39: 0 | F39: =G39+H39 -> 38982 | G39: 38982 | H39: 0
A40: 50502 | B40: 商品和服务支出 | C40: =D40+E40 -> 30396 | D40: 29185 | E40: 1211 | F40: =G40+H40 -> 641 | G40: 641 | H40: 0
...

Sheet L05
A1: 2020年度霍州市一般公共预算转移性收支决算录入表
A2: 录入05表
A3: 单位：万元
A4: 项目 | B4: 决 算 数 | C4: 项目 | D4: 决 算 数
A5: 一般公共预算收入 | B5: ='L01'!C5 -> 48775 | C5: 一般公共预算支出 | D5: ='L02'!C5 -> 181433
A6: 上级补助收入 | B6: =SUM(B7,B14,B50) -> 138812 | C6: 补助下级支出 | D6: =SUM(D7,D14,D50) -> 0
A7: 返还性收入 | B7: =SUM(B8:B13) -> -6434 | C7: 返还性支出 | D7: =SUM(D8:D13) -> 0
A8: 所得税基数返还收入 | B8: -4464 | C8: 所得税基数返还支出 | D8: 0
A9: 成品油税费改革税收返还收入 | B9: 516 | C9: 成品油税费改革税收返还支出 | D9: 0
A10: 增值税税收返还收入 | B10: 2003 | C10: 增值税税收返还支出 | D10: 0
A11: 消费税税收返还收入 | B11: 0 | C11: 消费税税收返还支出 | D11: 0
A12: 增值税“五五分享”税收返还收入 | B12: -4489 | C12: 增值税“五五分享”税收返还支出 | D12: 0
A13: 其他返还性收入 | B13: 0 | C13: 其他返还性支出 | D13: 0
A14: 一般性转移支付收入 | B14: =SUM(B15:B49) -> 137103 | C14: 一般性转移支付支出 | D14: =SUM(D15:D49) -> 0
A15: 体制补助收入 | B15: 0 | C15: 体制补助支出 | D15: 0
A16: 均衡性转移支付收入 | B16: 52488 | C16: 均衡性转移支付支出 | D16: 0
A17: 县级基本财力保障机制奖补资金收入 | B17: 31778 | C17: 县级基本财力保障机制奖补资金支出 | D17: 0
A18: 结算补助收入 | B18: -2344 | C18: 结算补助支出 | D18: 0
A19: 资源枯竭型城市转移支付补助收入 | B19: 12330 | C19: 资源枯竭型城市转移支付补助支出 | D19: 0
A20: 企业事业单位划转补助收入 | B20: 0 | C20: 企业事业单位划转补助支出 | D20: 0
A21: 产粮(油)大县奖励资金收入 | B21: 0 | C21: 产粮(油)大县奖励资金支出 | D21: 0
A22: 重点生态功能区转移支付收入 | B22: 47 | C22: 重点生态功能区转移支付支出 | D22: 0
A23: 固定数额补助收入 | B23: 10406 | C23: 固定数额补助支出 | D23: 0
A24: 革命老区转移支付收入 | B24: 0 | C24: 革命老区转移支付支出 | D24: 0
A25: 民族地区转移支付收入 | B25: 0 | C25: 民族地区转移支付支出 | D25: 0
A26: 边境地区转移支付收入 | B26: 0 | C26: 边境地区转移支付支出 | D26: 0
... A49: 其他一般性转移支付收入 | B49: 5 | C49: 其他一般性转移支付支出 | D49: 0
A50: 专项转移支付收入 | B50: =SUM(B51:B71) -> 8143 | C50: 专项转移支付支出 | D50: =SUM(D51:D71) -> 0
A51: 一般公共服务 | B51: 689 | C51: 一般公共服务 | D51: 0
A52: 外交 | B52: 0 | C52: 外交 | D52: 0
A53: 国防 | B53: 0 | C53: 国防 | D53: 0
A54: 公共安全 | B54: 173 | C54: 公共安全 | D54: 0
A55: 教育 | B55: 324 | C55: 教育 | D55: 0
A56: 科学技术 | B56: 24 | C56: 科学技术 | D56: 0
A57: 文化旅游体育与传媒 | B57: 57 | C57: 文化旅游体育与传媒 | D57: 0
A58: 社会保障和就业 | B58: 340 | C58: 社会保障和就业 | D58: 0
A59: 卫生健康 | B59: 1282 | C59: 卫生健康 | D59: 0
A60: 节能环保 | B60: 779 | C60: 节能环保 | D60: 0
A61: 城乡社区 | B61: 0 | C61: 城乡社区 | D61: 0
A62: 农林水 | B62: 2423 | C62: 农林水 | D62: 0
...

Sheet L06
A1: 2020年度霍州市一般公共预算收入预算变动情况录入表
A2: 录入06表
A3: 单位：万元
A4: 科目编码 | B4: 科目名称 | C4: 预算数 | D4: 变动项目 | H4: 调整预算数
D5: 上级专项调整数 | G5: 增加(减少)预算指标
D6: 小计 | E6: 企业上下划 | F6: 其他
B7: 一般公共预算收入 | C7: =SUM(C8,C29) -> 55761 | D7: =SUM(D8,D29) -> 0 | E7: =SUM(E8,E29) -> 0 | F7: =SUM(F8,F29) -> 0 | G7: =SUM(G8,G29) -> -7761 | H7: =SUM(H8,H29) -> 48000
A8: 101 | B8: 税收收入 | C8: =SUM(C9:C28) -> 42704 | D8: =SUM(D9:D28) -> 0 | E8: =SUM(E9:E28) -> 0 | F8: =SUM(F9:F28) -> 0 | G8: =SUM(G9:G28) -> -4704 | H8: =SUM(H9:H28) -> 38000
A9: 10101 | B9: 增值税 | C9: 18383 | D9: =E9+F9 -> 0 | E9: 0 | F9: 0 | G9: -1583 | H9: =C9+D9+G9 -> 16800
A10: 10102 | B10: 消费税 | C10: 0 | D10: =E10+F10 -> 0 | E10: 0 | F10: 0 | G10: 0 | H10: =C10+D10+G10 -> 0
A11: 10104 | B11: 企业所得税 | C11: 499 | D11: =E11+F11 -> 0 | E11: 0 | F11: 0 | G11: 100 | H11: =C11+D11+G11 -> 599
A12: 10105 | B12: 企业所得税退税 | C12: 0 | D12: =E12+F12 -> 0 | E12: 0 | F12: 0 | G12: 0 | H12: =C12+D12+G12 -> 0
A13: 10106 | B13: 个人所得税 | C13: 1087 | D13: =E13+F13 -> 0 | E13: 0 | F13: 0 | G13: -487 | H13: =C13+D13+G13 -> 600
A14: 10107 | B14: 资源税 | C14: 7255 | D14: =E14+F14 -> 0 | E14: 0 | F14: 0 | G14: -2755 | H14: =C14+D14+G14 -> 4500
A15: 10109 | B15: 城市维护建设税 | C15: 4930 | D15: =E15+F15 -> 0 | E15: 0 | F15: 0 | G15: -230 | H15: =C15+D15+G15 -> 4700
A16: 10110 | B16: 房产税 | C16: 2672 | D16: =E16+F16 -> 0 | E16: 0 | F16: 0 | G16: -372 | H16: =C16+D16+G16 -> 2300
A17: 10111 | B17: 印花税 | C17: 1867 | D17: =E17+F17 -> 0 | E17: 0 | F17: 0 | G17: 120 | H17: =C17+D17+G17 -> 1987
A18: 10112 | B18: 城镇土地使用税 | C18: 3094 | D18: =E18+F18 -> 0 | E18: 0 | F18: 0 | G18: -594 | H18: =C18+D18+G18 -> 2500
A19: 10113 | B19: 土地增值税 | C19: 450 | D19: =E19+F19 -> 0 | E19: 0 | F19: 0 | G19: 850 | H19: =C19+D19+G19 -> 1300
A20: 10114 | B20: 车船税 | C20: 1114 | D20: =E20+F20 -> 0 | E20: 0 | F20: 0 | G20: 0 | H20: =C20+D20+G20 -> 1114
... A28: 10199 | B28: 其他税收收入 | C28: 0 | D28: =E28+F28 -> 0 | E28: 0 | F28: 0 | G28: 0 | H28: =C28+D28+G28 -> 0
A29: 103 | B29: 非税收入 | C29: =SUM(C30:C37) -> 13057 | D29: =SUM(D30:D37) -> 0 | E29: =SUM(E30:E37) -> 0 | F29: =SUM(F30:F37) -> 0 | G29: =SUM(G30:G37) -> -3057 | H29: =SUM(H30:H37) -> 10000
A30: 10302 | B30: 专项收入 | C30: 2930 | D30: =E30+F30 -> 0 | E30: 0 | F30: 0 | G30: 0 | H30: =C30+D30+G30 -> 2930
A31: 10304 | B31: 行政事业性收费收入 | C31: 5625 | D31: =E31+F31 -> 0 | E31: 0 | F31: 0 | G31: -2920 | H31: =C31+D31+G31 -> 2705
A32: 10305 | B32: 罚没收入 | C32: 2430 | D32: =E32+F32 -> 0 | E32: 0 | F32: 0 | G32: 363 | H32: =C32+D32+G32 -> 2793
A33: 10306 | B33: 国有资本经营收入 | C33: 0 | D33: =E33+F33 -> 0 | E33: 0 | F33: 0 | G33: 0 | H33: =C33+D33+G33 -> 0
A34: 10307 | B34: 国有资源(资产)有偿使用收入 | C34: 1944 | D34: =E34+F34 -> 0 | E34: 0 | F34: 0 | G34: -560 | H34: =C34+D34+G34 -> 1384
A35: 10308 | B35: 捐赠收入 | C35: 46 | D35: =E35+F35 -> 0 | E35: 0 | F35: 0 | G35: 60 | H35: =C35+D35+G35 -> 106
A36: 10309 | B36: 政府住房基金收入 | C36: 82 | D36: =E36+F36 -> 0 | E36: 0 | F36: 0 | G36: 0 | H36: =C36+D36+G36 -> 82
A37: 10399 | B37: 其他收入 | C37: 0 | D37: =E37+F37 -> 0 | E37: 0 | F37: 0 | G37: 0 | H37: =C37+D37+G37 -> 0

Sheet L07
A1: 2020年度霍州市一般公共预算支出预算变动及结余、结转情况录入表
A2: 录入07表
A3: 单位：万元
A4: 科目编码 | B4: 科目名称 | C4: 预算数 | D4: 变动项目 | T4: 调整预算数 | U4: 决算数 | V4: 预算结余 | W4: 结转下年使用数
D5: 小计 | E5: 返还性收入 | F5: 一般性转移支付 | G5: 专项转移支付 | H5: 上年结转使用数 | I5: 调入资金 | J5: 债务收入 | K5: 债务转贷收入 | L5: 动支预备费 | M5: 科目调剂 | N5: 本年短收安排 | O5: 动用预算稳定调节基金 | P5: 补助下级专款 | Q5: 安排预算稳定调节基金 | R5: 省补助计划单列市 | S5: 其他
B7: 一般公共预算支出 | C7: =SUM(C8,C36,C46,C52,C64,C75,C86,C93,C115,C129,C145,C152,C161,C169,C177,C181,C187,C197,C201,C205,C211,C220,C221,C224,C228) -> 163418 | D7: =SUM(D8,D36,D46,D52,D64,D75,D86,D93,D115,D129,D145,D152,D161,D169,D177,D181,D187,D197,D201,D205,D211,D220,D221,D224,D228) -> 33173 | E7: =SUM(E8,E36,E46,E52,E64,E75,E86,E93,E115,E129,E145,E152,E161,E169,E177,E181,E187,E197,E201,E205,E211,E220,E221,E224,E228) -> 0 | F7: =SUM(F8,F36,F46,F52,F64,F75,F86,F93,F115,F129,F145,F152,F161,F169,F177,F181,F187,F197,F201,F205,F211,F220,F221,F224,F228) -> 34366 | G7: =SUM(G8,G36,G46,G52,G64,G75,G86,G93,G115,G129,G145,G152,G161,G169,G177,G181,G187,G197,G201,G205,G211,G220,G221,G224,G228) -> 6674 | H7: =SUM(H8,H36,H46,H52,H64,H75,H86,H93,H115,H129,H145,H152,H161,H169,H177,H181,H187,H197,H201,H205,H211,H220,H221,H224,H228) -> 0 | I7: =SUM(I8,I36,I46,I52,I64,I75,I86,I93,I115,I129,I145,I152,I161,I169,I177,I181,I187,I197,I201,I205,I211,I220,I221,I224,I228) -> 1814 | J7: =SUM(J8,J36,J46,J52,J64,J75,J86,J93,J115,J129,J145,J152,J161,J169,J177,J181,J187,J197,J201,J205,J211,J220,J221,J224,J228) -> 0 | ... W7: =SUM(W8,W36,W46,W52,W64,W75,W86,W93,W115,W129,W145,W152,W161,W169,W177,W181,W187,W197,W201,W205,W211,W220,W221,W224,W228) -> 15158
A8: 201 | B8: 一般公共服务支出 | C8: =SUM(C9:C35) -> 19852 | D8: =SUM(D9:D35) -> 2288 | E8: =SUM(E9:E35) -> 0 | F8: =SUM(F9:F35) -> 1629 | G8: =SUM(G9:G35) -> 659 | H8: =SUM(H9:H35) -> 0 | I8: =SUM(I9:I35) -> 0 | J8: =SUM(J9:J35) -> 0 | ... W8: =SUM(W9:W35) -> 210
A9: 20101 | B9: 人大事务 | C9: 663 | D9: =SUM(E9:S9) -> -284 | E9: 0 | F9: 0 | G9: 0 | H9: 0 | I9: 0 | J9: 0 | K9: 0 | L9: 0 | M9: -284 | N9: 0 | O9: 0 | P9: 0 | Q9: 0 | R9: 0 | S9: 0 | T9: =C9+D9 -> 379 | U9: ='L02'!C7 -> 379 | V9: =T9-U9 -> 0 | W9: 0
A10: 20102 | B10: 政协事务 | C10: 256 | D10: =SUM(E10:S10) -> -28 | E10: 0 | F10: 0 | G10: 0 | H10: 0 | I10: 0 | J10: 0 | K10: 0 | L10: 0 | M10: -28 | N10: 0 | O10: 0 | P10: 0 | Q10: 0 | R10: 0 | S10: 0 | T10: =C10+D10 -> 228 | U10: ='L02'!C19 -> 228 | V10: =T10-U10 -> 0 | W10: 0
A11: 20103 | B11: 政府办公厅(室)及相关机构事务 | C11: 8863 | D11: =SUM(E11:S11) -> 491 | E11: 0 | F11: 160 | G11: 0 | H11: 0 | I11: 0 | J11: 0 | K11: 0 | L11: 0 | M11: 331 | N11: 0 | O11: 0 | P11: 0 | Q11: 0 | R11: 0 | S11: 0 | T11: =C11+D11 -> 9354 | U11: ='L02'!C28 -> 9224 | V11: =T11-U11 -> 130 | W11: 130
A12: 20104 | B12: 发展与改革事务 | C12: 687 | D12: =SUM(E12:S12) -> -32 | E12: 0 | F12: 0 | G12: 0 | H12: 0 | I12: 0 | J12: 0 | K12: 0 | L12: 0 | M12: -32 | N12: 0 | O12: 0 | P12: 0 | Q12: 0 | R12: 0 | S12: 0 | T12: =C12+D12 -> 655 | U12: ='L02'!C39 -> 655 | V12: =T12-U12 -> 0 | W12: 0
A13: 20105 | B13: 统计信息事务 | C13: 184 | D13: =SUM(E13:S13) -> 294 | E13: 0 | F13: 0 | G13: 59 | H13: 0 | I13: 0 | J13: 0 | K13: 0 | L13: 0 | M13: 235 | N13: 0 | O13: 0 | P13: 0 | Q13: 0 | R13: 0 | S13: 0 | T13: =C13+D13 -> 478 | U13: ='L02'!C50 -> 478 | V13: =T13-U13 -> 0 | W13: 0
A14: 20106 | B14: 财政事务 | C14: 1169 | D14: =SUM(E14:S14) -> 167 | E14: 0 | F14: 0 | G14: 0 | H14: 0 | I14: 0 | J14: 0 | K14: 0 | L14: 0 | M14: 167 | N14: 0 | O14: 0 | P14: 0 | Q14: 0 | R14: 0 | S14: 0 | T14: =C14+D14 -> 1336 | U14: ='L02'!C61 -> 1336 | V14: =T14-U14 -> 0 | W14: 0
A15: 20107 | B15: 税收事务 | C15: 1162 | D15: =SUM(E15:S15) -> 319 | E15: 0 | F15: 0 | G15: 0 | H15: 0 | I15: 0 | J15: 0 | K15: 0 | L15: 0 | M15: 319 | N15: 0 | O15: 0 | P15: 0 | Q15: 0 | R15: 0 | S15: 0 | T15: =C15+D15 -> 1481 | U15: ='L02'!C72 -> 1481 | V15: =T15-U15 -> 0 | W15: 0
A16: 20108 | B16: 审计事务 | C16: 264 | D16: =SUM(E16:S16) -> 20 | E16: 0 | F16: 0 | G16: 0 | H16: 0 | I16: 0 | J16: 0 | K16: 0 | L16: 0 | M16: 20 | N16: 0 | O16: 0 | P16: 0 | Q16: 0 | R16: 0 | S16: 0 | T16: =C16+D16 -> 284 | U16: ='L02'!C84 -> 284 | V16: =T16-U16 -> 0 | W16: 0
A17: 20109 | B17: 海关事务 | C17: 0 | D17: =SUM(E17:S17) -> 0 | E17: 0 | F17: 0 | G17: 0 | H17: 0 | I17: 0 | J17: 0 | K17: 0 | L17: 0 | M17: 0 | N17: 0 | O17: 0 | P17: 0 | Q17: 0 | R17: 0 | S17: 0 | T17: =C17+D17 -> 0 | U17: ='L02'!C93 -> 0 | V17: =T17-U17 -> 0 | W17: 0
A18: 20110 | B18: 人力资源事务 | C18: 1151 | D18: =SUM(E18:S18) -> -1151 | E18: 0 | F18: 0 | G18: 0 | H18: 0 | I18: 0 | J18: 0 | K18: 0 | L18: 0 | M18: -1151 | N18: 0 | O18: 0 | P18: 0 | Q18: 0 | R18: 0 | S18: 0 | T18: =C18+D18 -> 0 | U18: ='L02'!C106 -> 0 | V18: =T18-U18 -> 0 | W18: 0
A19: 20111 | B19: 纪检监察事务 | C19: 0 | D19: =SUM(E19:S19) -> 1772 | E19: 0 | F19: 1449 | G19: 0 | H19: 0 | I19: 0 | J19: 0 | K19: 0 | L19: 0 | M19: 323 | N19: 0 | O19: 0 | P19: 0 | Q19: 0 | R19: 0 | S19: 0 | T19: =C19+D19 -> 1772 | U19: ='L02'!C116 -> 1770 | V19: =T19-U19 -> 2 | W19: 2
A20: 20113 | B20: 商贸事务 | C20: 570 | D20: =SUM(E20:S20) -> 98 | E20: 0 | F20: 0 | G20: 0 | H20: 0 | I20: 0 | J20: 0 | K20: 0 | L20: 0 | M20: 98 | N20: 0 | O20: 0 | P20: 0 | Q20: 0 | R20: 0 | S20: 0 | T20: =C20+D20 -> 668 | U20: ='L02'!C125 -> 668 | V20: =T20-U20 -> 0 | W20: 0
A21: 20114 | B21: 知识产权事务 | C21: 0 | D21: =SUM(E21:S21) -> 0 | E21: 0 | F21: 0 | G21: 0 | H21: 0 | I21: 0 | J21: 0 | K21: 0 | L21: 0 | M21: 0 | N21: 0 | O21: 0 | P21: 0 | Q21: 0 | R21: 0 | S21: 0 | T21: =C21+D21 -> 0 | U21: ='L02'!C136 -> 0 | V21: =T21-U21 -> 0 | W21: 0
A22: 20123 | B22: 民族事务 | C22: 0 | D22: =SUM(E22:S22) -> 0 | E22: 0 | F22: 0 | G22: 0 | H22: 0 | I22: 0 | J22: 0 | K22: 0 | L22: 0 | M22: 0 | N22: 0 | O22: 0 | P22: 0 | Q22: 0 | R22: 0 | S22: 0 | T22: =C22+D22 -> 0 | U22: ='L02'!C149 -> 0 | V22: =T22-U22 -> 0 | W22: 0
A23: 20125 | B23: 港澳台事务 | C23: 6 | D23: =SUM(E23:S23) -> -2 | E23: 0 | F23: 0 | G23: 0 | H23: 0 | I23: 0 | J23: 0 | K23: 0 | L23: 0 | M23: -2 | N23: 0 | O23: 0 | P23: 0 | Q23: 0 | R23: 0 | S23: 0 | T23: =C23+D23 -> 4 | U23: ='L02'!C156 -> 4 | V23: =T23-U23 -> 0 | W23: 0
A24: 20126 | B24: 档案事务 | C24: 250 | D24: =SUM(E24:S24) -> 60 | E24: 0 | F24: 0 | G24: 0 | H24: 0 | I24: 0 | J24: 0 | K24: 0 | L24: 0 | M24: 60 | N24: 0 | O24: 0 | P24: 0 | Q24: 0 | R24: 0 | S24: 0 | T24: =C24+D24 -> 310 | U24: ='L02'!C164 -> 310 | V24: =T24-U24 -> 0 | W24: 0
A25: 20128 | B25: 民主党派及工商联事务 | C25: 57 | D25: =SUM(E25:S25) -> -9 | E25: 0 | F25: 0 | G25: 0 | H25: 0 | I25: 0 | J25: 0 | K25: 0 | L25: 0 | M25: -9 | N25: 0 | O25: 0 | P25: 0 | Q25: 0 | R25: 0 | S25: 0 | T25: =C25+D25 -> 48 | U25: ='L02'!C170 -> 48 | V25: =T25-U25 -> 0 | W25: 0
A26: 20129 | B26: 群众团体事务 | C26: 420 | D26: =SUM(E26:S26) -> 70 | E26: 0 | F26: 0 | G26: 19 | H26: 0 | I26: 0 | J26: 0 | K26: 0 | L26: 0 | M26: 51 | N26: 0 | O26: 0 | P26: 0 | Q26: 0 | R26: 0 | S26: 0 | T26: =C26+D26 -> 490 | U26: ='L02'!C177 -> 487 | V26: =T26-U26 -> 3 | W26: 3
A27: 20131 | B27: 党委办公厅(室)及相关机构事务 | C27: 833 | D27: =SUM(E27:S27) -> -22 | E27: 0 | F27: 0 | G27: 0 | H27: 0 | I27: 0 | J27: 0 | K27: 0 | L27: 0 | M27: -22 | N27: 0 | O27: 0 | P27: 0 | Q27: 0 | R27: 0 | S27: 0 | T27: =C27+D27 -> 811 | U27: ='L02'!C184 -> 811 | V27: =T27-U27 -> 0 | W27: 0
A28: 20132 | B28: 组织事务 | C28: 1327 | D28: =SUM(E28:S28) -> 372 | E28: 0 | F28: 20 | G28: 571 | H28: 0 | I28: 0 | J28: 0 | K28: 0 | L28: 0 | M28: -219 | N28: 0 | O28: 0 | P28: 0 | Q28: 0 | R28: 0 | S28: 0 | T28: =C28+D28 -> 1699 | U28: ='L02'!C191 -> 1624 | V28: =T28-U28 -> 75 | W28: 75
A29: 20133 | B29: 宣传事务 | C29: 576 | D29: =SUM(E29:S29) -> 62 | E29: 0 | F29: 0 | G29: 10 | H29: 0 | I29: 0 | J29: 0 | K29: 0 | L29: 0 | M29: 52 | N29: 0 | O29: 0 | P29: 0 | Q29: 0 | R29: 0 | S29: 0 | T29: =C29+D29 -> 638 | U29: ='L02'!C198 -> 638 | V29: =T29-U29 -> 0 | W29: 0
A30: 20134 | B30: 统战事务 | C30: 106 | D30: =SUM(E30:S30) -> 8 | E30: 0 | F30: 0 | G30: 0 | H30: 0 | I30: 0 | J30: 0 | K30: 0 | L30: 0 | M30: 8 | N30: 0 | O30: 0 | P30: 0 | Q30: 0 | R30: 0 | S30: 0 | T30: =C30+D30 -> 114 | U30: ='L02'!C205 -> 114 | V30: =T30-U30 -> 0 | W30: 0
A31: 20135 | B31: 对外联络事务 | C31: 0 | D31: =SUM(E31:S31) -> 0 | E31: 0 | F31: 0 | G31: 0 | H31: 0 | I31: 0 | J31: 0 | K31: 0 | L31: 0 | M31: 0 | N31: 0 | O31: 0 | P31: 0 | Q31: 0 | R31: 0 | S31: 0 | T31: =C31+D31 -> 0 | U31: ='L02'!C213 -> 0 | V31: =T31-U31 -> 0 | W31: 0
A32: 20136 | B32: 其他共产党事务支出 | C32: 0 | D32: =SUM(E32:S32) -> 0 | E32: 0 | F32: 0 | G32: 0 | H32: 0 | I32: 0 | J32: 0 | K32: 0 | L32: 0 | M32: 0 | N32: 0 | O32: 0 | P32: 0 | Q32: 0 | R32: 0 | S32: 0 | T32: =C32+D32 -> 0 | U32: ='L02'!C219 -> 0 | V32: =T32-U32 -> 0 | W32: 0
A33: 20137 | B33: 网信事务 | C33: 0 | D33: =SUM(E33:S33) -> 0 | E33: 0 | F33: 0 | G33: 0 | H33: 0 | I33: 0 | J33: 0 | K33: 0 | L33: 0 | M33: 0 | N33: 0 | O33: 0 | P33: 0 | Q33: 0 | R33: 0 | S33: 0 | T33: =C33+D33 -> 0 | U33: ='L02'!C225 -> 0 | V33: =T33-U33 -> 0 | W33: 0
A34: 20138 | B34: 市场监督管理事务 | C34: 1308 | D34: =SUM(E34:S34) -> 83 | E34: 0 | F34: 0 | G34: 0 | H34: 0 | I34: 0 | J34: 0 | K34: 0 | L34: 0 | M34: 83 | N34: 0 | O34: 0 | P34: 0 | Q34: 0 | R34: 0 | S34: 0 | T34: =C34+D34 -> 1391 | U34: ='L02'!C232 -> 1391 | V34: =T34-U34 -> 0 | W34: 0
A35: 20199 | B35: 其他一般公共服务支出 | C35: 0 | D35: =SUM(E35:S35) -> 0 | E35: 0 | F35: 0 | G35: 0 | H35: 0 | I35: 0 | J35: 0 | K35: 0 | L35: 0 | M35: 0 | N35: 0 | O35: 0 | P35: 0 | Q35: 0 | R35: 0 | S35: 0 | T35: =C35+D35 -> 0 | U35: ='L02'!C247 -> 0 | V35: =T35-U35 -> 0 | W35: 0
A36: 202 | B36: 外交支出 | C36: =SUM(C37:C45) -> 0 | D36: =SUM(D37:D45) -> 0 | E36: =SUM(E37:E45) -> 0 | F36: =SUM(F37:F45) -> 0 | G36: =SUM(G37:G45) -> 0 | H36: =SUM(H37:H45) -> 0 | I36: =SUM(I37:I45) -> 0 | J36: =SUM(J37:J45) -> 0 | ... W36: =SUM(W37:W45) -> 0
A37: 20201 | B37: 外交管理事务 | C37: 0 | D37: =SUM(E37:S37) -> 0 | E37: 0 | F37: 0 | G37: 0 | H37: 0 | I37: 0 | J37: 0 | K37: 0 | L37: 0 | M37: 0 | N37: 0 | O37: 0 | P37: 0 | Q37: 0 | R37: 0 | S37: 0 | T37: =C37+D37 -> 0 | U37: ='L02'!C251 -> 0 | V37: =T37-U37 -> 0 | W37: 0
A38: 20202 | B38: 驻外机构 | C38: 0 | D38: =SUM(E38:S38) -> 0 | E38: 0 | F38: 0 | G38: 0 | H38: 0 | I38: 0 | J38: 0 | K38: 0 | L38: 0 | M38: 0 | N38: 0 | O38: 0 | P38: 0 | Q38: 0 | R38: 0 | S38: 0 | T38: =C38+D38 -> 0 | U38: ='L02'!C258 -> 0 | V38: =T38-U38 -> 0 | W38: 0
A39: 20203 | B39: 对外援助 | C39: 0 | D39: =SUM(E39:S39) -> 0 | E39: 0 | F39: 0 | G39: 0 | H39: 0 | I39: 0 | J39: 0 | K39: 0 | L39: 0 | M39: 0 | N39: 0 | O39: 0 | P39: 0 | Q39: 0 | R39: 0 | S39: 0 | T39: =C39+D39 -> 0 | U39: ='L02'!C261 -> 0 | V39: =T39-U39 -> 0 | W39: 0
A40: 20204 | B40: 国际组织 | C40: 0 | D40: =SUM(E40:S40) -> 0 | E40: 0 | F40: 0 | G40: 0 | H40: 0 | I40: 0 | J40: 0 | K40: 0 | L40: 0 | M40: 0 | N40: 0 | O40: 0 | P40: 0 | Q40: 0 | R40: 0 | S40: 0 | T40: =C40+D40 -> 0 | U40: ='L02'!C264 -> 0 | V40: =T40-U40 -> 0 | W40: 0
A41: 20205 | B41: 对外合作与交流 | C41: 0 | D41: =SUM(E41:S41) -> 0 | E41: 0 | F41: 0 | G41: 0 | H41: 0 | I41: 0 | J41: 0 | K41: 0 | L41: 0 | M41: 0 | N41: 0 | O41: 0 | P41: 0 | Q41: 0 | R41: 0 | S41: 0 | T41: =C41+D41 -> 0 | U41: ='L02'!C270 -> 0 | V41: =T41-U41 -> 0 | W41: 0
...

Sheet sheet2
A9: 第二部分:政府性基金预算

Sheet L08
A1: 2020年度霍州市政府性基金预算收入决算录入表
C2: 录入08表
C3: 单位:万元
A4: 科目编码 | B4: 科目名称 | C4: 决算数
B5: 政府性基金预算收入 | C5: =SUM(C6,C56) -> 5985
A6: 10301 | B6: 政府性基金收入(款) | C6: =SUM(C7,C10:C18,C24:C25,C28:C31,C34:C36,C39:C43,C46:C47,C55) -> 5985
A7: 1030102 | B7: 农网还贷资金收入 | C7: =SUM(C8:C9) -> 0
A8: 103010201 | B8: 中央农网还贷资金收入 | C8: 0
A9: 103010202 | B9: 地方农网还贷资金收入 | C9: 0
A10: 1030106 | B10: 铁路建设基金收入 | C10: 0
A11: 1030110 | B11: 民航发展基金收入 | C11: 0
A12: 1030112 | B12: 海南省高等级公路车辆通行附加费收入 | C12: 0
A13: 1030115 | B13: 港口建设费收入 | C13: 0
A14: 1030121 | B14: 旅游发展基金收入 | C14: 0
A15: 1030129 | B15: 国家电影事业发展专项资金收入 | C15: 0
A16: 1030146 | B16: 国有土地收益基金收入 | C16: 390
A17: 1030147 | B17: 农业土地开发资金收入 | C17: 4
A18: 1030148 | B18: 国有土地使用权出让收入 | C18: =SUM(C19:C23) -> 3548
A19: 103014801 | B19: 土地出让价款收入 | C19: 3497
A20: 103014802 | B20: 补缴的土地价款 | C20: 20
A21: 103014803 | B21: 划拨土地收入 | C21: 13
A22: 103014898 | B22: 缴纳新增建设用地土地有偿使用费 | C22: 0
A23: 103014899 | B23: 其他土地出让收入 | C23: 18
A24: 1030149 | B24: 大中型水库移民后期扶持基金收入 | C24: 0
A25: 1030150 | B25: 大中型水库库区基金收入 | C25: =SUM(C26:C27) -> 0
A26: 103015001 | B26: 中央大中型水库库区基金收入 | C26: 0
A27: 103015002 | B27: 地方大中型水库库区基金收入 | C27: 0
A28: 1030152 | B28: 三峡水库库区基金收入 | C28: 0
A29: 1030153 | B29: 中央特别国债经营基金收入 | C29: 0
A30: 1030154 | B30: 中央特别国债经营基金财务收入 | C30: 0
A31: 1030155 | B31: 彩票公益金收入 | C31: =SUM(C32:C33) -> 0
A32: 103015501 | B32: 福利彩票公益金收入 | C32: 0
A33: 103015502 | B33: 体育彩票公益金收入 | C33: 0
A34: 1030156 | B34: 城市基础设施配套费收入 | C34: 2034
A35: 1030157 | B35: 小型水库移民扶助基金收入 | C35: 0
A36: 1030158 | B36: 国家重大水利工程建设基金收入 | C36: =SUM(C37:C38) -> 0
A37: 103015801 | B37: 中央重大水利工程建设资金 | C37: 0
A38: 103015803 | B38: 地方重大水利工程建设资金 | C38: 0
A39: 1030159 | B39: 车辆通行费 | C39: 0
A40: 1030166 | B40: 核电站乏燃料处理处置基金收入 | C40: 0
...

Sheet L09
A1: 2020年度霍州市政府性基金预算支出决算功能分类录入表
C2: 录入09表
C3: 单位:万元
A4: 科目编码 | B4: 科目名称 | C4: 决算数
B5: 政府性基金预算支出 | C5: =SUM(C6,C14,C30,C42,C53,C108,C132,C184,C189,C193,C219,C237,C255) -> 21549
A6: 206 | B6: 科学技术支出 | C6: =C7 -> 0
A7: 20610 | B7: 核电站乏燃料处理处置基金支出 | C7: =SUM(C8:C13) -> 0
A8: 2061001 | B8: 乏燃料运输 | C8: 0
A9: 2061002 | B9: 乏燃料离堆贮存 | C9: 0
A10: 2061003 | B10: 乏燃料后处理 | C10: 0
A11: 2061004 | B11: 高放废物的处理处置 | C11: 0
A12: 2061005 | B12: 乏燃料后处理厂的建设、运行、改造和退役 | C12: 0
A13: 2061099 | B13: 其他乏燃料处理处置基金支出 | C13: 0
A14: 207 | B14: 文化旅游体育与传媒支出 | C14: =SUM(C15,C21,C27) -> 16
A15: 20707 | B15: 国家电影事业发展专项资金安排的支出 | C15: =SUM(C16:C20) -> 13
A16: 2070701 | B16: 资助国产影片放映 | C16: 13
A17: 2070702 | B17: 资助影院建设 | C17: 0
A18: 2070703 | B18: 资助少数民族语电影译制 | C18: 0
A19: 2070704 | B19: 购买农村电影公益性放映版权服务 | C19: 0
A20: 2070799 | B20: 其他国家电影事业发展专项资金支出 | C20: 0
A21: 20709 | B21: 旅游发展基金支出 | C21: =SUM(C22:C26) -> 3
A22: 2070901 | B22: 宣传促销 | C22: 0
A23: 2070902 | B23: 行业规划 | C23: 0
A24: 2070903 | B24: 旅游事业补助 | C24: 0
A25: 2070904 | B25: 地方旅游开发项目补助 | C25: 3
A26: 2070999 | B26: 其他旅游发展基金支出 | C26: 0
A27: 20710 | B27: 国家电影事业发展专项资金对应专项债务收入安排的支出 | C27: =SUM(C28:C29) -> 0
A28: 2071001 | B28: 资助城市影院 | C28: 0
A29: 2071099 | B29: 其他国家电影事业发展专项资金对应专项债务收入支出 | C29: 0
A30: 208 | B30: 社会保障和就业支出 | C30: =SUM(C31,C35,C39) -> 17
A31: 20822 | B31: 大中型水库移民后期扶持基金支出 | C31: =SUM(C32:C34) -> 17
A32: 2082201 | B32: 移民补助 | C32: 17
A33: 2082202 | B33: 基础设施建设和经济发展 | C33: 0
A34: 2082299 | B34: 其他大中型水库移民后期扶持基金支出 | C34: 0
A35: 20823 | B35: 小型水库移民扶助基金安排的支出 | C35: =SUM(C36:C38) -> 0
A36: 2082301 | B36: 移民补助 | C36: 0
A37: 2082302 | B37: 基础设施建设和经济发展 | C37: 0
A38: 2082399 | B38: 其他小型水库移民扶助基金支出 | C38: 0
A39: 20829 | B39: 小型水库移民扶助基金对应专项债务收入安排的支出 | C39: =SUM(C40:C41) -> 0
A40: 2082901 | B40: 基础设施建设和经济发展 | C40: 0
...

Sheet L10
A1: 2020年度霍州市政府性基金预算收支及结余情况录入表
A2: 录入10表
A3: 单位：万元
A4: 科目编码 | B4: 收入项目 | C4: 决算数 | D4: 上级补助收入 | E4: 下级上解收入 | F4: 待偿债置换专项债券上年结余 | G4: 上年结余 | H4: 调入资金 | I4: 债务收入 | J4: 债务转贷收入 | K4: 省补助计划单列市收入 | L4: 计划单列市上解省收入 | M4: 科目编码 | N4: 支出项目 | O4: 决算数 | P4: 补助下级支出 | Q4: 上解上级支出 | R4: 调出资金 | S4: 债务还本支出 | T4: 债务转贷支出 | U4: 省补助计划单列市支出 | V4: 计划单列市上解省支出 | W4: 科目编码 | X4: 结余项目 | Y4: 待偿债置换专项债券结余 | Z4: 年终结余
B6: 政府性基金预算收入 | C6: =SUM(C7:C34) -> 5985 | D6: =SUM(D7:D34) -> 8142 | E6: =SUM(E7:E33) -> 0 | F6: =SUM(F7:F33) -> 0 | G6: =SUM(G7:G33) -> 3275 | H6: =SUM(H7:H33) -> 0 | I6: =SUM(I7:I33) -> 0 | J6: =SUM(J7:J33) -> 7500 | K6: =SUM(K7:K34) -> 0 | L6: =SUM(L7:L33) -> 0 | N6: 政府性基金预算支出 | O6: =SUM(O7:O34) -> 21549 | P6: =SUM(P7:P34) -> 0 | Q6: =SUM(Q7:Q33) -> 0 | R6: =SUM(R7:R34) -> 1814 | S6: =SUM(S7:S33) -> 0 | T6: =SUM(T7:T33) -> 0 | U6: =SUM(U7:U34) -> 0 | V6: =SUM(V7:V33) -> 0 | X6: 政府性基金预算结余 | Y6: =SUM(Y7:Y33) -> 0 | Z6: =SUM(C6:L6)-SUM(O6:V6)-Y6 -> 1539
A7: 1030166 | B7: 核电站乏燃料处理处置基金收入 | C7: ='L08'!C40 -> 0 | D7: 0 | E7: 0 | F7: 0 | G7: 0 | H7: 0 | I7: 0 | J7: 0 | K7: 0 | L7: 0 | M7: 20610 | N7: 核电站乏燃料处理处置基金支出 | O7: ='L09'!C7 -> 0 | P7: 0 | Q7: 0 | R7: 0 | S7: 0 | T7: 0 | U7: 0 | V7: 0 | W7: 1030166 | X7: 核电站乏燃料处理处置基金结余 | Y7: 0 | Z7: =SUM(C7:L7)-SUM(O7:V7)-Y7 -> 0
B8: 国家电影事业发展专项资金相关收入 | C8: ='L08'!C15+'L08'!C59 -> 0 | D8: 13 | E8: 0 | F8: 0 | G8: 0 | H8: 0 | I8: 0 | J8: 0 | K8: 0 | L8: 0 | N8: 国家电影事业发展专项资金相关支出 | O8: ='L09'!C15+'L09'!C27+'L09'!C223+'L09'!C241 -> 13 | P8: 0 | Q8: 0 | R8: 0 | S8: 0 | T8: 0 | U8: 0 | V8: 0 | X8: 国家电影事业发展专项资金相关结余 | Y8: 0 | Z8: =SUM(C8:L8)-SUM(O8:V8)-Y8 -> 0
A9: 1030121 | B9: 旅游发展基金收入 | C9: ='L08'!C14 -> 0 | D9: 0 | E9: 0 | F9: 0 | G9: 4 | H9: 0 | I9: 0 | J9: 0 | K9: 0 | L9: 0 | M9: 20709 | N9: 旅游发展基金支出 | O9: ='L09'!C21 -> 3 | P9: 0 | Q9: 0 | R9: 0 | S9: 0 | T9: 0 | U9: 0 | V9: 0 | W9: 1030121 | X9: 旅游发展基金结余 | Y9: 0 | Z9: =SUM(C9:L9)-SUM(O9:V9)-Y9 -> 1
A10: 1030149 | B10: 大中型水库移民后期扶持基金收入 | C10: ='L08'!C24 -> 0 | D10: 18 | E10: 0 | F10: 0 | G10: 2 | H10: 0 | I10: 0 | J10: 0 | K10: 0 | L10: 0 | M10: 20822 | N10: 大中型水库移民后期扶持基金支出 | O10: ='L09'!C31 -> 17 | P10: 0 | Q10: 0 | R10: 0 | S10: 0 | T10: 0 | U10: 0 | V10: 0 | W10: 1030149 | X10: 大中型水库移民后期扶持基金结余 | Y10: 0 | Z10: =SUM(C10:L10)-SUM(O10:V10)-Y10 -> 3
B11: 小型水库移民扶助基金相关收入 | C11: ='L08'!C35+'L08'!C67 -> 0 | D11: 0 | E11: 0 | F11: 0 | G11: 0 | H11: 0 | I11: 0 | J11: 0 | K11: 0 | L11: 0 | N11: 小型水库移民扶助基金相关支出 | O11: ='L09'!C35+'L09'!C39+'L09'!C228+'L09'!C246 -> 0 | P11: 0 | Q11: 0 | R11: 0 | S11: 0 | T11: 0 | U11: 0 | V11: 0 | X11: 小型水库移民扶助基金相关结余 | Y11: 0 | Z11: =SUM(C11:L11)-SUM(O11:V11)-Y11 -> 0
A12: 1030168 | B12: 可再生能源电价附加收入 | C12: ='L08'!C41 -> 0 | D12: 0 | E12: 0 | F12: 0 | G12: 0 | H12: 0 | I12: 0 | J12: 0 | K12: 0 | L12: 0 | M12: 21160 | N12: 可再生能源电价附加收入安排的支出 | O12: ='L09'!C43 -> 0 | P12: 0 | Q12: 0 | R12: 0 | S12: 0 | T12: 0 | U12: 0 | V12: 0 | W12: 1030168 | X12: 可再生能源电价附加结余 | Y12: 0 | Z12: =SUM(C12:L12)-SUM(O12:V12)-Y12 -> 0
A13: 1030175 | B13: 废弃电器电子产品处理基金收入 | C13: ='L08'!C43 -> 0 | D13: 0 | E13: 0 | F13: 0 | G13: 0 | H13: 0 | I13: 0 | J13: 0 | K13: 0 | L13: 0 | M13: 21161 | N13: 废弃电器电子产品处理基金支出 | O13: ='L09'!C48 -> 0 | P13: 0 | Q13: 0 | R13: 0 | S13: 0 | T13: 0 | U13: 0 | V13: 0 | W13: 1030175 | X13: 废弃电器电子产品处理基金结余 | Y13: 0 | Z13: =SUM(C13:L13)-SUM(O13:V13)-Y13 -> 0
B14: 国有土地使用权出让相关收入 | C14: 3548 | D14: 854 | E14: 0 | F14: 0 | G14: 1537 | H14: 0 | I14: 0 | J14: 0 | K14: 0 | L14: 0 | N14: 国有土地使用权出让相关支出 | O14: 4712 | P14: 0 | Q14: 0 | R14: 500 | S14: 0 | T14: 0 | U14: 0 | V14: 0 | X14: 国有土地使用权出让相关结余 | Y14: 0 | Z14: =SUM(C14:L14)-SUM(O14:V14)-Y14 -> 727
B15: 国有土地收益基金相关收入 | C15: ='L08'!C16+'L08'!C18+'L08'!C60-C14 -> 390 | D15: 0 | E15: 0 | F15: 0 | G15: 0 | H15: 0 | I15: 0 | J15: 0 | K15: 0 | L15: 0 | N15: 国有土地收益基金相关支出 | O15: ='L09'!C54+'L09'!C67+'L09'!C82+'L09'!C86+'L09'!C99+'L09'!C224+'L09'!C232+'L09'!C234+'L09'!C242+'L09'!C250+'L09'!C252-O14 -> 0 | P15: 0 | Q15: 0 | R15: 300 | S15: 0 | T15: 0 | U15: 0 | V15: 0 | X15: 国有土地收益基金相关结余 | Y15: 0 | Z15: =SUM(C15:L15)-SUM(O15:V15)-Y15 -> 90
B16: 农业土地开发资金相关收入 | C16: ='L08'!C17+'L08'!C64 -> 4 | D16: 0 | E16: 0 | F16: 0 | G16: 49 | H16: 0 | I16: 0 | J16: 0 | K16: 0 | L16: 0 | N16: 农业土地开发资金相关支出 | O16: ='L09'!C71+'L09'!C225+'L09'!C243 -> 2 | P16: 0 | Q16: 0 | R16: 5 | S16: 0 | T16: 0 | U16: 0 | V16: 0 | X16: 农业土地开发资金相关结余 | Y16: 0 | Z16: =SUM(C16:L16)-SUM(O16:V16)-Y16 -> 46
B17: 城市基础设施配套费相关收入 | C17: ='L08'!C34+'L08'!C66 -> 2034 | D17: 0 | E17: 0 | F17: 0 | G17: 1465 | H17: 0 | I17: 0 | J17: 0 | K17: 0 | L17: 0 | N17: 城市基础设施配套费相关支出 | O17: ='L09'!C72+'L09'!C90+'L09'!C227+'L09'!C245 -> 2155 | P17: 0 | Q17: 0 | R17: 1000 | S17: 0 | T17: 0 | U17: 0 | V17: 0 | X17: 城市基础设施配套费相关结余 | Y17: 0 | Z17: =SUM(C17:L17)-SUM(O17:V17)-Y17 -> 344
B18: 污水处理费相关收入 | C18: ='L08'!C46+'L08'!C72 -> 0 | D18: 0 | E18: 0 | F18: 0 | G18: 0 | H18: 0 | I18: 0 | J18: 0 | K18: 0 | L18: 0 | N18: 污水处理费相关支出 | O18: ='L09'!C78+'L09'!C96+'L09'!C231+'L09'!C249 -> 0 | P18: 0 | Q18: 0 | R18: 0 | S18: 0 | T18: 0 | U18: 0 | V18: 0 | X18: 污水处理费相关结余 | Y18: 0 | Z18: =SUM(C18:L18)-SUM(O18:V18)-Y18 -> 0
B19: 大中型水库库区基金相关收入 | C19: ='L08'!C25+'L08'!C65 -> 0 | D19: 0 | E19: 0 | F19: 0 | G19: 0 | H19: 0 | I19: 0 | J19: 0 | K19: 0 | L19: 0 | N19: 大中型水库库区基金相关支出 | O19: ='L09'!C109+'L09'!C124+'L09'!C226+'L09'!C244 -> 0 | P19: 0 | Q19: 0 | R19: 0 | S19: 0 | T19: 0 | U19: 0 | V19: 0 | X19: 大中型水库库区基金相关结余 | Y19: 0 | Z19: =SUM(C19:L19)-SUM(O19:V19)-Y19 -> 0
A20: 1030152 | B20: 三峡水库库区基金收入 | C20: ='L08'!C28 -> 0 | D20: 0 | E20: 0 | F20: 0 | G20: 0 | H20: 0 | I20: 0 | J20: 0 | K20: 0 | L20: 0 | M20: 21367 | N20: 三峡水库库区基金支出 | O20: ='L09'!C114 -> 0 | P20: 0 | Q20: 0 | R20: 0 | S20: 0 | T20: 0 | U20: 0 | V20: 0 | W20: 1030152 | X20: 三峡水库库区基金结余 | Y20: 0 | Z20: =SUM(C20:L20)-SUM(O20:V20)-Y20 -> 0
B21: 国家重大水利工程建设基金相关收入 | C21: ='L08'!C36+'L08'!C68 -> 0 | D21: 0 | E21: 0 | F21: 0 | G21: 0 | H21: 0 | I21: 0 | J21: 0 | K21: 0 | L21: 0 | N21: 国家重大水利工程建设基金相关支出 | O21: ='L09'!C119+'L09'!C127+'L09'!C229+'L09'!C247 -> 0 | P21: 0 | Q21: 0 | R21: 0 | S21: 0 | T21: 0 | U21: 0 | V21: 0 | X21: 国家重大水利工程建设基金相关结余 | Y21: 0 | Z21: =SUM(C21:L21)-SUM(O21:V21)-Y21 -> 0
B22: 海南省高等级公路车辆通行附加费相关收入 | C22: ='L08'!C12+'L08'!C57 -> 0 | D22: 0 | E22: 0 | F22: 0 | G22: 0 | H22: 0 | I22: 0 | J22: 0 | K22: 0 | L22: 0 | N22: 海南省高等级公路车辆通行附加费相关支出 | O22: ='L09'!C133+'L09'!C173+'L09'!C221+'L09'!C239 -> 0 | P22: 0 | Q22: 0 | R22: 0 | S22: 0 | T22: 0 | U22: 0 | V22: 0 | X22: 海南省高等级公路车辆通行附加费相关结余 | Y22: 0 | Z22: =SUM(C22:L22)-SUM(O22:V22)-Y22 -> 0
B23: 车辆通行费相关收入 | C23: ='L08'!C39+'L08'!C69 -> 0 | D23: 0 | E23: 0 | F23: 0 | G23: 0 | H23: 0 | I23: 0 | J23: 0 | K23: 0 | L23: 0 | N23: 车辆通行费相关支出 | O23: ='L09'!C138+'L09'!C176+'L09'!C179+'L09'!C230+'L09'!C233+'L09'!C248+'L09'!C251 -> 0 | P23: 0 | Q23: 0 | R23: 0 | S23: 0 | T23: 0 | U23: 0 | V23: 0 | X23: 车辆通行费相关结余 | Y23: 0 | Z23: =SUM(C23:L23)-SUM(O23:V23)-Y23 -> 0
B24: 港口建设费相关收入 | C24: ='L08'!C13+'L08'!C58 -> 0 | D24: 0 | E24: 0 | F24: 0 | G24: 0 | H24: 0 | I24: 0 | J24: 0 | K24: 0 | L24: 0 | N24: 港口建设费相关支出 | O24: ='L09'!C143+'L09'!C180+'L09'!C222+'L09'!C240 -> 0 | P24: 0 | Q24: 0 | R24: 0 | S24: 0 | T24: 0 | U24: 0 | V24: 0 | X24: 港口建设费相关结余 | Y24: 0 | Z24: =SUM(C24:L24)-SUM(O24:V24)-Y24 -> 0
A25: 1030106 | B25: 铁路建设基金收入 | C25: ='L08'!C10 -> 0 | D25: 0 | E25: 0 | F25: 0 | G25: 0 | H25: 0 | I25: 0 | J25: 0 | K25: 0 | L25: 0 | M25: 21464 | N25: 铁路建设基金支出 | O25: ='L09'!C148 -> 0 | P25: 0 | Q25: 0 | R25: 0 | S25: 0 | T25: 0 | U25: 0 | V25: 0 | W25: 1030106 | X25: 铁路建设基金结余 | Y25: 0 | Z25: =SUM(C25:L25)-SUM(O25:V25)-Y25 -> 0
A26: 1030171 | B26: 船舶油污损害赔偿基金收入 | C26: ='L08'!C42 -> 0 | D26: 0 | E26: 0 | F26: 0 | G26: 0 | H26: 0 | I26: 0 | J26: 0 | K26: 0 | L26: 0 | M26: 21468 | N26: 船舶油污损害赔偿基金支出 | O26: ='L09'!C157 -> 0 | P26: 0 | Q26: 0 | R26: 0 | S26: 0 | T26: 0 | U26: 0 | V26: 0 | W26: 1030171 | X26: 船舶油污损害赔偿基金结余 | Y26: 0 | Z26: =SUM(C26:L26)-SUM(O26:V26)-Y26 -> 0
A27: 1030110 | B27: 民航发展基金收入 | C27: ='L08'!C11 -> 0 | D27: 0 | E27: 0 | F27: 0 | G27: 0 | H27: 0 | I27: 0 | J27: 0 | K27: 0 | L27: 0 | M27: 21469 | N27: 民航发展基金支出 | O27: ='L09'!C164 -> 0 | P27: 0 | Q27: 0 | R27: 0 | S27: 0 | T27: 0 | U27: 0 | V27: 0 | W27: 1030110 | X27: 民航发展基金结余 | Y27: 0 | Z27: =SUM(C27:L27)-SUM(O27:V27)-Y27 -> 0
A28: 1030102 | B28: 农网还贷资金收入 | C28: ='L08'!C7 -> 0 | D28: 0 | E28: 0 | F28: 0 | G28: 0 | H28: 0 | I28: 0 | J28: 0 | K28: 0 | L28: 0 | M28: 21562 | N28: 农网还贷资金支出 | O28: ='L09'!C185 -> 0 | P28: 0 | Q28: 0 | R28: 0 | S28: 0 | T28: 0 | U28: 0 | V28: 0 | W28: 1030102 | X28: 农网还贷资金结余 | Y28: 0 | Z28: =SUM(C28:L28)-SUM(O28:V28)-Y28 -> 0
A29: 1030153 | B29: 中央特别国债经营基金收入 | C29: ='L08'!C29 -> 0 | D29: 0 | E29: 0 | F29: 0 | G29: 0 | H29: 0 | I29: 0 | J29: 0 | K29: 0 | L29: 0 | M29: 2170402 | N29: 中央特别国债经营基金支出 | O29: ='L09'!C191 -> 0 | P29: 0 | Q29: 0 | R29: 0 | S29: 0 | T29: 0 | U29: 0 | V29: 0 | W29: 1030153 | X29: 中央特别国债经营基金结余 | Y29: 0 | Z29: =SUM(C29:L29)-SUM(O29:V29)-Y29 -> 0
A30: 1030154 | B30: 中央特别国债经营基金财务收入 | C30: ='L08'!C30 -> 0 | D30: 0 | E30: 0 | F30: 0 | G30: 0 | H30: 0 | I30: 0 | J30: 0 | K30: 0 | L30: 0 | M30: 2170403 | N30: 中央特别国债经营基金财务支出 | O30: ='L09'!C192 -> 0 | P30: 0 | Q30: 0 | R30: 0 | S30: 0 | T30: 0 | U30: 0 | V30: 0 | W30: 1030154 | X30: 中央特别国债经营基金财务结余 | Y30: 0 | Z30: =SUM(C30:L30)-SUM(O30:V30)-Y30 -> 0
A31: 1030180 | B31: 彩票发行机构和彩票销售机构的业务费用 | C31: ='L08'!C47 -> 0 | D31: 0 | E31: 0 | F31: 0 | G31: 0 | H31: 0 | I31: 0 | J31: 0 | K31: 0 | L31: 0 | M31: 22908 | N31: 彩票发行销售机构业务费安排的支出 | O31: ='L09'!C198 -> 0 | P31: 0 | Q31: 0 | R31: 0 | S31: 0 | T31: 0 | U31: 0 | V31: 0 | W31: 1030180 | X31: 彩票发行机构和彩票销售机构的业务费用结余 | Y31: 0 | Z31: =SUM(C31:L31)-SUM(O31:V31)-Y31 -> 0
A32: 1030155 | B32: 彩票公益金收入 | C32: ='L08'!C31 -> 0 | D32: 357 | E32: 0 | F32: 0 | G32: 218 | H32: 0 | I32: 0 | J32: 0 | K32: 0 | L32: 0 | M32: 22960 | N32: 彩票公益金安排的支出 | O32: ='L09'!C207 -> 247 | P32: 0 | Q32: 0 | R32: 0 | S32: 0 | T32: 0 | U32: 0 | V32: 0 | W32: 1030155 | X32: 彩票公益金结余 | Y32: 0 | Z32: =SUM(C32:L32)-SUM(O32:V32)-Y32 -> 328
B33: 其他政府性基金相关收入 | C33: ='L08'!C55+'L08'!C73 -> 9 | D33: 0 | E33: 0 | F33: 0 | G33: 0 | H33: 0 | I33: 0 | J33: 7500 | K33: 0 | L33: 0 | N33: 其他政府性基金相关支出 | O33: ='L09'!C194+'L09'!C235+'L09'!C236+'L09'!C253+'L09'!C254 -> 7500 | P33: 0 | Q33: 0 | R33: 9 | S33: 0 | T33: 0 | U33: 0 | V33: 0 | X33: 其他政府性基金相关结余 | Y33: 0 | Z33: =SUM(C33:L33)-SUM(O33:V33)-Y33 -> 0
B34: 抗疫特别国债收入 | C34: 0 | D34: 6900 | K34: 0 | N34: 抗疫特别国债安排的支出 | O34: ='L09'!C255 -> 6900 | P34: 0 | R34: 0 | U34: 0 | X34: 抗疫特别国债结余 | Z34: =SUM(C34,D34,K34)-SUM(O34:P34,R34,U34) -> 0

Sheet L11
A1: 2020年度霍州市政府性基金预算转移性收支决算录入表
A2: 录入11表
A3: 单位：万元
A4: 项目 | B4: 决算数 | C4: 项目 | D4: 决算数
A5: 政府性基金预算收入 | B5: ='L10'!C6 -> 5985 | C5: 政府性基金预算支出 | D5: ='L10'!O6 -> 21549
A6: 政府性基金预算上级补助收入 | B6: =B7+B8 -> 8142 | C6: 政府性基金预算补助下级支出 | D6: =D7+D8 -> 0
A7: 政府性基金转移支付收入 | B7: 1242 | C7: 政府性基金转移支付支出 | D7: 0
A8: 抗疫特别国债转移支付收入 | B8: 6900 | C8: 抗疫特别国债转移支付支出 | D8: 0
A9: 政府性基金预算下级上解收入 | B9: 0 | C9: 政府性基金预算上解上级支出 | D9: 0
A10: 待偿债置换专项债券上年结余 | B10: 0
A11: 政府性基金预算上年结余 | B11: 3275
A12: 调入资金 | B12: =B13+B14 -> 0 | C12: 调出资金 | D12: =D13+D14 -> 1814
A13: 一般公共预算调入 | B13: 0 | C13: 政府性基金预算调出资金 | D13: 1814
A14: 其他调入资金 | B14: 0 | C14: 抗疫特别国债调出资金 | D14: 0
A15: 债务收入 | B15: =B16 -> 0 | C15: 债务还本支出 | D15: =D16 -> 0
A16: 地方政府债务收入 | B16: =B17 -> 0 | C16: 地方政府专项债务还本支出 | D16: 0
A17: 专项债务收入 | B17: 0 | C17: 抗疫特别国债还本支出
A18: 债务转贷收入 | B18: =B19 -> 7500 | C18: 债务转贷支出 | D18: 0
A19: 地方政府专项债务转贷收入 | B19: 7500
A20: 政府性基金预算省补助计划单列市收入 | B20: =B21+B22 -> 0 | C20: 政府性基金预算省补助计划单列市支出 | D20: =SUM(D21:D22) -> 0
A21: 政府性基金转移支付收入 | B21: 0 | C21: 政府性基金转移支付支出 | D21: 0
A22: 抗疫特别国债转移支付收入 | B22: 0 | C22: 抗疫特别国债转移支付支出 | D22: 0
A23: 政府性基金预算计划单列市上解省收入 | B23: 0 | C23: 政府性基金预算计划单列市上解省支出 | D23: 0
C24: 待偿债置换专项债券结余 | D24: ='L10'!Y6 -> 0
C25: 政府性基金预算年终结余 | D25: =B26-D5-D6-D9-D12-D15-D18-D20-D23-D24 -> 1539
A26: 收 入 总 计 | B26: =SUM(B5,B6,B9,B10,B11,B12,B15,B18,B20,B23) -> 24902 | C26: 支 出 总 计 | D26: =SUM(D5,D6,D9,D12,D15,D18,D20,D23,D24,D25) -> 24902

Sheet L12
A1: 2020年度霍州市政府性基金预算收入预算变动情况录入表
A2: 录入12表
A3: 单位：万元
A4: 科目编码 | B4: 预算科目 | C4: 预算数 | D4: 增加(减少)预算指标 | E4: 调整预算数
B5: 政府性基金预算收入 | C5: =SUM(C6:C44) -> 5400 | D5: =SUM(D6:D44) -> 0 | E5: =SUM(E6:E44) -> 5400
A6: 1030102 | B6: 农网还贷资金收入 | C6: 0 | D6: 0 | E6: =SUM(C6:D6) -> 0
A7: 1030106 | B7: 铁路建设基金收入 | C7: 0 | D7: 0 | E7: =SUM(C7:D7) -> 0
A8: 1030110 | B8: 民航发展基金收入 | C8: 0 | D8: 0 | E8: =SUM(C8:D8) -> 0
A9: 1030112 | B9: 海南省高等级公路车辆通行附加费收入 | C9: 0 | D9: 0 | E9: =SUM(C9:D9) -> 0
A10: 1030115 | B10: 港口建设费收入 | C10: 0 | D10: 0 | E10: =SUM(C10:D10) -> 0
A11: 1030121 | B11: 旅游发展基金收入 | C11: 0 | D11: 0 | E11: =SUM(C11:D11) -> 0
A12: 1030129 | B12: 国家电影事业发展专项资金收入 | C12: 0 | D12: 0 | E12: =SUM(C12:D12) -> 0
A13: 1030146 | B13: 国有土地收益基金收入 | C13: 0 | D13: 0 | E13: =SUM(C13:D13) -> 0
A14: 1030147 | B14: 农业土地开发资金收入 | C14: 0 | D14: 0 | E14: =SUM(C14:D14) -> 0
A15: 1030148 | B15: 国有土地使用权出让收入 | C15: 4100 | D15: 0 | E15: =SUM(C15:D15) -> 4100
A16: 1030149 | B16: 大中型水库移民后期扶持基金收入 | C16: 0 | D16: 0 | E16: =SUM(C16:D16) -> 0
A17: 1030150 | B17: 大中型水库库区基金收入 | C17: 0 | D17: 0 | E17: =SUM(C17:D17) -> 0
... A44: 1031099 | B44: 其他政府性基金专项债务对应项目专项收入 | C44: 0 | D44: 0 | E44: =SUM(C44:D44) -> 0

Sheet L13
A1: 2020年度霍州市政府性基金预算支出预算变动情况录入表
A2: 录入13表
A3: 单位：万元
A4: 科目编码 | B4: 科目名称 | C4: 预算数 | D4: 变动项目 | N4: 调整预算数 | O4: 决算数
D5: 小计 | E5: 专项补助 | F5: 动用上年结余 | G5: 调入资金 | H5: 债务收入 | I5: 债务转贷收入 | J5: 本年短收安排 | K5: 补助下级专款 | L5: 省补助计划单列市 | M5: 其他
B6: 政府性基金预算支出 | C6: =SUM(C7,C9,C13,C17,C20,C31,C37,C48,C50,C54,C58,C59,C60) -> 8832 | D6: =SUM(E6:M6) -> 13818 | E6: =SUM(E7,E9,E13,E17,E20,E31,E37,E48,E50,E54,E58,E59,E60) -> 7985 | F6: =SUM(F7,F9,F13,F17,F20,F31,F37,F48,F50,F54,F58,F59) -> 0 | G6: =SUM(G7,G9,G13,G17,G20,G31,G37,G48,G50,G54,G58,G59) -> 0 | H6: =SUM(H7,H9,H13,H17,H20,H31,H37,H48,H50,H54,H58,H59) -> 0 | I6: =SUM(I7,I9,I13,I17,I20,I31,I37,I48,I50,I54,I58,I59) -> 7500 | J6: =SUM(J7,J9,J13,J17,J20,J31,J37,J48,J50,J54,J58,J59) -> -852 | K6: =SUM(K7,K9,K13,K17,K20,K31,K37,K48,K50,K54,K58,K59,K60) -> 0 | L6: =SUM(L7,L9,L13,L17,L20,L31,L37,L48,L50,L54,L58,L59,L60) -> 0 | M6: =SUM(M7,M9,M13,M17,M20,M31,M37,M48,M50,M54,M58,M59,M60) -> -815 | N6: =SUM(C6:D6) -> 22650 | O6: =SUM(O7,O9,O13,O17,O20,O31,O37,O48,O50,O54,O58,O59,O60) -> 21549
A7: 206 | B7: 科学技术支出 | C7: =C8 -> 0 | D7: =SUM(E7:M7) -> 0 | E7: =E8 -> 0 | F7: =F8 -> 0 | G7: =G8 -> 0 | H7: =H8 -> 0 | I7: =I8 -> 0 | J7: =J8 -> 0 | K7: =K8 -> 0 | L7: =L8 -> 0 | M7: =M8 -> 0 | N7: =SUM(C7:D7) -> 0 | O7: =O8 -> 0
A8: 20610 | B8: 核电站乏燃料处理处置基金支出 | C8: 0 | D8: =SUM(E8:M8) -> 0 | E8: 0 | F8: 0 | G8: 0 | H8: 0 | I8: 0 | J8: 0 | K8: 0 | L8: 0 | M8: 0 | N8: =SUM(C8:D8) -> 0 | O8: ='L09'!C7 -> 0
A9: 207 | B9: 文化旅游体育与传媒支出 | C9: =SUM(C10:C12) -> 24 | D9: =SUM(E9:M9) -> -7 | E9: =SUM(E10:E11) -> -7 | F9: =SUM(F10:F12) -> 0 | G9: =SUM(G10:G11) -> 0 | H9: =SUM(H10:H12) -> 0 | I9: =SUM(I10:I12) -> 0 | J9: =SUM(J10:J11) -> 0 | K9: =SUM(K10:K11) -> 0 | L9: =SUM(L10:L11) -> 0 | M9: =SUM(M10:M12) -> 0 | N9: =SUM(C9:D9) -> 17 | O9: =SUM(O10:O12) -> 16
A10: 20707 | B10: 国家电影事业发展专项资金安排的支出 | C10: 0 | D10: =SUM(E10:M10) -> 13 | E10: 13 | F10: 0 | G10: 0 | H10: 0 | I10: 0 | J10: 0 | K10: 0 | L10: 0 | M10: 0 | N10: =SUM(C10:D10) -> 13 | O10: ='L09'!C15 -> 13
A11: 20709 | B11: 旅游发展基金支出 | C11: 24 | D11: =SUM(E11:M11) -> -20 | E11: -20 | F11: 0 | G11: 0 | H11: 0 | I11: 0 | J11: 0 | K11: 0 | L11: 0 | M11: 0 | N11: =SUM(C11:D11) -> 4 | O11: ='L09'!C21 -> 3
A12: 20710 | B12: 国家电影事业发展专项资金对应专项债务收入安排的支出 | C12: 0 | D12: =SUM(F12,H12:I12,M12) -> 0 | F12: 0 | H12: 0 | I12: 0 | M12: 0 | N12: =SUM(C12:D12) -> 0 | O12: ='L09'!C27 -> 0
A13: 208 | B13: 社会保障和就业支出 | C13: =SUM(C14:C16) -> 20 | D13: =SUM(E13:M13) -> 0 | E13: =SUM(E14:E15) -> 0 | F13: =SUM(F14:F16) -> 0 | G13: =SUM(G14:G15) -> 0 | H13: =SUM(H14:H16) -> 0 | I13: =SUM(I14:I16) -> 0 | J13: =SUM(J14:J15) -> 0 | K13: =SUM(K14:K15) -> 0 | L13: =SUM(L14:L15) -> 0 | M13: =SUM(M14:M16) -> 0 | N13: =SUM(C13:D13) -> 20 | O13: =SUM(O14:O16) -> 17
A14: 20822 | B14: 大中型水库移民后期扶持基金支出 | C14: 20 | D14: =SUM(E14:M14) -> 0 | E14: 0 | F14: 0 | G14: 0 | H14: 0 | I14: 0 | J14: 0 | K14: 0 | L14: 0 | M14: 0 | N14: =SUM(C14:D14) -> 20 | O14: ='L09'!C31 -> 17
A15: 20823 | B15: 小型水库移民扶助基金安排的支出 | C15: 0 | D15: =SUM(E15:M15) -> 0 | E15: 0 | F15: 0 | G15: 0 | H15: 0 | I15: 0 | J15: 0 | K15: 0 | L15: 0 | M15: 0 | N15: =SUM(C15:D15) -> 0 | O15: ='L09'!C35 -> 0
A16: 20829 | B16: 小型水库移民扶助基金对应专项债务收入安排的支出 | C16: 0 | D16: =SUM(F16,H16:I16,M16) -> 0 | F16: 0 | H16: 0 | I16: 0 | M16: 0 | N16: =SUM(C16:D16) -> 0 | O16: ='L09'!C39 -> 0
A17: 211 | B17: 节能环保支出 | C17: =SUM(C18:C19) -> 0 | D17: =SUM(E17:M17) -> 0 | E17: =SUM(E18:E19) -> 0 | F17: =SUM(F18:F19) -> 0 | G17: =SUM(G18:G19) -> 0 | H17: =SUM(H18:H19) -> 0 | I17: =SUM(I18:I19) -> 0 | J17: =SUM(J18:J19) -> 0 | K17: =SUM(K18:K19) -> 0 | L17: =SUM(L18:L19) -> 0 | M17: =SUM(M18:M19) -> 0 | N17: =SUM(C17:D17) -> 0 | O17: =SUM(O18:O19) -> 0
A18: 21160 | B18: 可再生能源电价附加收入安排的支出 | C18: 0 | D18: =SUM(E18:M18) -> 0 | E18: 0 | F18: 0 | G18: 0 | H18: 0 | I18: 0 | J18: 0 | K18: 0 | L18: 0 | M18: 0 | N18: =SUM(C18:D18) -> 0 | O18: ='L09'!C43 -> 0
A19: 21161 | B19: 废弃电器电子产品处理基金支出 | C19: 0 | D19: =SUM(E19:M19) -> 0 | E19: 0 | F19: 0 | G19: 0 | H19: 0 | I19: 0 | J19: 0 | K19: 0 | L19: 0 | M19: 0 | N19: =SUM(C19:D19) -> 0 | O19: ='L09'!C48 -> 0
A20: 212 | B20: 城乡社区支出 | C20: =SUM(C21:C30) -> 8451 | D20: =SUM(E20:M20) -> -1531 | E20: =SUM(E21:E25) -> 854 | F20: =SUM(F21:F30) -> 0 | G20: =SUM(G21:G25) -> 0 | H20: =SUM(H21:H30) -> 0 | I20: =SUM(I21:I30) -> 0 | J20: =SUM(J21:J25) -> -852 | K20: =SUM(K21:K25) -> 0 | L20: =SUM(L21:L25) -> 0 | M20: =SUM(M21:M30) -> -1533 | N20: =SUM(C20:D20) -> 6920 | O20: =SUM(O21:O30) -> 6151
A21: 21208 | B21: 国有土地使用权出让收入安排的支出 | C21: 5637 | D21: =SUM(E21:M21) -> -916 | E21: 854 | F21: 0 | G21: 0 | H21: 0 | I21: 0 | J21: -552 | K21: 0 | L21: 0 | M21: -1218 | N21: =SUM(C21:D21) -> 4721 | O21: ='L09'!C54 -> 3994
A22: 21210 | B22: 国有土地收益基金安排的支出 | C22: 0 | D22: =SUM(E22:M22) -> 0 | E22: 0 | F22: 0 | G22: 0 | H22: 0 | I22: 0 | J22: 0 | K22: 0 | L22: 0 | M22: 0 | N22: =SUM(C22:D22) -> 0 | O22: ='L09'!C67 -> 0
A23: 21211 | B23: 农业土地开发资金安排的支出 | C23: 49 | D23: =SUM(E23:M23) -> -5 | E23: 0 | F23: 0 | G23: 0 | H23: 0 | I23: 0 | J23: 0 | K23: 0 | L23: 0 | M23: -5 | N23: =SUM(C23:D23) -> 44 | O23: ='L09'!C71 -> 2
A24: 21213 | B24: 城市基础设施配套费安排的支出 | C24: 2465 | D24: =SUM(E24:M24) -> -310 | E24: 0 | F24: 0 | G24: 0 | H24: 0 | I24: 0 | J24: 0 | K24: 0 | L24: 0 | M24: -310 | N24: =SUM(C24:D24) -> 2155 | O24: ='L09'!C72 -> 2155
A25: 21214 | B25: 污水处理费安排的支出 | C25: 300 | D25: =SUM(E25:M25) -> -300 | E25: 0 | F25: 0 | G25: 0 | H25: 0 | I25: 0 | J25: -300 | K25: 0 | L25: 0 | M25: 0 | N25: =SUM(C25:D25) -> 0 | O25: ='L09'!C78 -> 0
A26: 21215 | B26: 土地储备专项债券收入安排的支出 | C26: 0 | D26: =SUM(F26,H26:I26,M26) -> 0 | F26: 0 | H26: 0 | I26: 0 | M26: 0 | N26: =SUM(C26:D26) -> 0 | O26: ='L09'!C82 -> 0
A27: 21216 | B27: 棚户区改造专项债券收入安排的支出 | C27: 0 | D27: =SUM(F27,H27:I27,M27) -> 0 | F27: 0 | H27: 0 | I27: 0 | M27: 0 | N27: =SUM(C27:D27) -> 0 | O27: ='L09'!C86 -> 0
A28: 21217 | B28: 城市基础设施配套费对应专项债务收入安排的支出 | C28: 0 | D28: =SUM(F28,H28:I28,M28) -> 0 | F28: 0 | H28: 0 | I28: 0 | M28: 0 | N28: =SUM(C28:D28) -> 0 | O28: ='L09'!C90 -> 0
A29: 21218 | B29: 污水处理费对应专项债务收入安排的支出 | C29: 0 | D29: =SUM(F29,H29:I29,M29) -> 0 | F29: 0 | H29: 0 | I29: 0 | M29: 0 | N29: =SUM(C29:D29) -> 0 | O29: ='L09'!C96 -> 0
A30: 21219 | B30: 国有土地使用权出让收入对应专项债务收入安排的支出 | C30: 0 | D30: =SUM(F30,H30:I30,M30) -> 0 | F30: 0 | H30: 0 | I30: 0 | M30: 0 | N30: =SUM(C30:D30) -> 0 | O30: ='L09'!C99 -> 0
A31: 213 | B31: 农林水支出 | C31: =SUM(C32:C36) -> 0 | D31: =SUM(E31:M31) -> 0 | E31: =SUM(E32:E34) -> 0 | F31: =SUM(F32:F36) -> 0 | G31: =SUM(G32:G34) -> 0 | H31: =SUM(H32:H36) -> 0 | I31: =SUM(I32:I36) -> 0 | J31: =SUM(J32:J34) -> 0 | K31: =SUM(K32:K34) -> 0 | L31: =SUM(L32:L34) -> 0 | M31: =SUM(M32:M36) -> 0 | N31: =SUM(C31:D31) -> 0 | O31: =SUM(O32:O36) -> 0
A32: 21366 | B32: 大中型水库库区基金安排的支出 | C32: 0 | D32: =SUM(E32:M32) -> 0 | E32: 0 | F32: 0 | G32: 0 | H32: 0 | I32: 0 | J32: 0 | K32: 0 | L32: 0 | M32: 0 | N32: =SUM(C32:D32) -> 0 | O32: ='L09'!C109 -> 0
A33: 21367 | B33: 三峡水库库区基金支出 | C33: 0 | D33: =SUM(E33:M33) -> 0 | E33: 0 | F33: 0 | G33: 0 | H33: 0 | I33: 0 | J33: 0 | K33: 0 | L33: 0 | M33: 0 | N33: =SUM(C33:D33) -> 0 | O33: ='L09'!C114 -> 0
A34: 21369 | B34: 国家重大水利工程建设基金安排的支出 | C34: 0 | D34: =SUM(E34:M34) -> 0 | E34: 0 | F34: 0 | G34: 0 | H34: 0 | I34: 0 | J34: 0 | K34: 0 | L34: 0 | M34: 0 | N34: =SUM(C34:D34) -> 0 | O34: ='L09'!C119 -> 0
A35: 21370 | B35: 大中型水库库区基金对应专项债务收入安排的支出 | C35: 0 | D35: =SUM(F35,H35:I35,M35) -> 0 | F35: 0 | H35: 0 | I35: 0 | M35: 0 | N35: =SUM(C35:D35) -> 0 | O35: ='L09'!C124 -> 0
A36: 21371 | B36: 国家重大水利工程建设基金对应专项债务收入安排的支出 | C36: 0 | D36: =SUM(F36,H36:I36,M36) -> 0 | F36: 0 | H36: 0 | I36: 0 | M36: 0 | N36: =SUM(C36:D36) -> 0 | O36: ='L09'!C127 -> 0
A37: 214 | B37: 交通运输支出 | C37: =SUM(C38:C47) -> 0 | D37: =SUM(E37:M37) -> 0 | E37: =SUM(E38:E43) -> 0 | F37: =SUM(F38:F47) -> 0 | G37: =SUM(G38:G43) -> 0 | H37: =SUM(H38:H47) -> 0 | I37: =SUM(I38:I47) -> 0 | J37: =SUM(J38:J43) -> 0 | K37: =SUM(K38:K43) -> 0 | L37: =SUM(L38:L43) -> 0 | M37: =SUM(M38:M47) -> 0 | N37: =SUM(C37:D37) -> 0 | O37: =SUM(O38:O47) -> 0
A38: 21460 | B38: 海南省高等级公路车辆通行附加费安排的支出 | C38: 0 | D38: =SUM(E38:M38) -> 0 | E38: 0 | F38: 0 | G38: 0 | H38: 0 | I38: 0 | J38: 0 | K38: 0 | L38: 0 | M38: 0 | N38: =SUM(C38:D38) -> 0 | O38: ='L09'!C133 -> 0
A39: 21462 | B39: 车辆通行费安排的支出 | C39: 0 | D39: =SUM(E39:M39) -> 0 | E39: 0 | F39: 0 | G39: 0 | H39: 0 | I39: 0 | J39: 0 | K39: 0 | L39: 0 | M39: 0 | N39: =SUM(C39:D39) -> 0 | O39: ='L09'!C138 -> 0
A40: 21463 | B40: 港口建设费安排的支出 | C40: 0 | D40: =SUM(E40:M40) -> 0 | E40: 0 | F40: 0 | G40: 0 | H40: 0 | I40: 0 | J40: 0 | K40: 0 | L40: 0 | M40: 0 | N40: =SUM(C40:D40) -> 0 | O40: ='L09'!C143 -> 0
...

Sheet sheet3
A9: 第三部分:国有资本经营预算

Sheet L14
A1: 2020年度霍州市国有资本经营预算收支决算录入表
A2: 录入14表
A3: 单位：万元
A4: 科目编码 | B4: 预算科目 | C4: 预算数 | D4: 调整预算数 | E4: 决算数 | F4: 科目编码 | G4: 预算科目 | H4: 预算数 | I4: 调整预算数 | J4: 决算数
B5: 国有资本经营预算收入 | C5: =C6 -> 0 | D5: =D6 -> 0 | E5: =E6 -> 0 | G5: 国有资本经营预算支出 | H5: =H6+H9 -> 11339 | I5: =I6+I9 -> 11339 | J5: =J6+J9 -> 11339
A6: 103 | B6: 非税收入 | C6: =C7 -> 0 | D6: =D7 -> 0 | E6: =E7 -> 0 | F6: 208 | G6: 社会保障和就业支出 | H6: =H7 -> 0 | I6: =I7 -> 0 | J6: =J7 -> 0
A7: 10306 | B7: 国有资本经营收入 | C7: =C8+C40+C45+C51+C55 -> 0 | D7: =D8+D40+D45+D51+D55 -> 0 | E7: =E8+E40+E45+E51+E55 -> 0 | F7: 20804 | G7: 补充全国社会保障基金 | H7: =H8 -> 0 | I7: =I8 -> 0 | J7: =J8 -> 0
A8: 1030601 | B8: 利润收入 | C8: =SUM(C9:C39) -> 0 | D8: =SUM(D9:D39) -> 0 | E8: =SUM(E9:E39) -> 0 | F8: 2080451 | G8: 国有资本经营预算补充社保基金支出 | H8: 0 | I8: 0 | J8: 0
A9: 103060103 | B9: 烟草企业利润收入 | C9: 0 | D9: 0 | E9: 0 | F9: 223 | G9: 国有资本经营预算支出 | H9: =H10+H20+H29+H31+H35 -> 11339 | I9: =I10+I20+I29+I31+I35 -> 11339 | J9: =J10+J20+J29+J31+J35 -> 11339
A10: 103060104 | B10: 石油石化企业利润收入 | C10: 0 | D10: 0 | E10: 0 | F10: 22301 | G10: 解决历史遗留问题及改革成本支出 | H10: =SUM(H11:H19) -> 11339 | I10: =SUM(I11:I19) -> 11339 | J10: =SUM(J11:J19) -> 11339
A11: 103060105 | B11: 电力企业利润收入 | C11: 0 | D11: 0 | E11: 0 | F11: 2230101 | G11: 厂办大集体改革支出 | H11: 0 | I11: 0 | J11: 0
A12: 103060106 | B12: 电信企业利润收入 | C12: 0 | D12: 0 | E12: 0 | F12: 2230102 | G12: "三供一业"移交补助支出 | H12: 11339 | I12: 11339 | J12: 11339
A13: 103060107 | B13: 煤炭企业利润收入 | C13: 0 | D13: 0 | E13: 0 | F13: 2230103 | G13: 国有企业办职教幼教补助支出 | H13: 0 | I13: 0 | J13: 0
A14: 103060108 | B14: 有色冶金采掘企业利润收入 | C14: 0 | D14: 0 | E14: 0 | F14: 2230104 | G14: 国有企业办公共服务机构移交补助支出 | H14: 0 | I14: 0 | J14: 0
A15: 103060109 | B15: 钢铁企业利润收入 | C15: 0 | D15: 0 | E15: 0 | F15: 2230105 | G15: 国有企业退休人员社会化管理补助支出 | H15: 0 | I15: 0 | J15: 0
A16: 103060112 | B16: 化工企业利润收入 | C16: 0 | D16: 0 | E16: 0 | F16: 2230106 | G16: 国有企业棚户区改造支出 | H16: 0 | I16: 0 | J16: 0
A17: 103060113 | B17: 运输企业利润收入 | C17: 0 | D17: 0 | E17: 0 | F17: 2230107 | G17: 国有企业改革成本支出 | H17: 0 | I17: 0 | J17: 0
A18: 103060114 | B18: 电子企业利润收入 | C18: 0 | D18: 0 | E18: 0 | F18: 2230108 | G18: 离休干部医药费补助支出 | H18: 0 | I18: 0 | J18: 0
A19: 103060115 | B19: 机械企业利润收入 | C19: 0 | D19: 0 | E19: 0 | F19: 2230199 | G19: 其他解决历史遗留问题及改革成本支出 | H19: 0 | I19: 0 | J19: 0
A20: 103060116 | B20: 投资服务企业利润收入 | C20: 0 | D20: 0 | E20: 0 | F20: 22302 | G20: 国有企业资本金注入 | H20: =SUM(H21:H28) -> 0 | I20: =SUM(I21:I28) -> 0 | J20: =SUM(J21:J28) -> 0
A21: 103060117 | B21: 纺织轻工企业利润收入 | C21: 0 | D21: 0 | E21: 0 | F21: 2230201 | G21: 国有经济结构调整支出 | H21: 0 | I21: 0 | J21: 0
A22: 103060118 | B22: 贸易企业利润收入 | C22: 0 | D22: 0 | E22: 0 | F22: 2230202 | G22: 公益性设施投资支出 | H22: 0 | I22: 0 | J22: 0
A23: 103060119 | B23: 建筑施工企业利润收入 | C23: 0 | D23: 0 | E23: 0 | F23: 2230203 | G23: 前瞻性战略性产业发展支出 | H23: 0 | I23: 0 | J23: 0
A24: 103060120 | B24: 房地产企业利润收入 | C24: 0 | D24: 0 | E24: 0 | F24: 2230204 | G24: 生态环境保护支出 | H24: 0 | I24: 0 | J24: 0
A25: 103060121 | B25: 建材企业利润收入 | C25: 0 | D25: 0 | E25: 0 | F25: 2230205 | G25: 支持科技进步支出 | H25: 0 | I25: 0 | J25: 0
A26: 103060122 | B26: 境外企业利润收入 | C26: 0 | D26: 0 | E26: 0 | F26: 2230206 | G26: 保障国家经济安全支出 | H26: 0 | I26: 0 | J26: 0
A27: 103060123 | B27: 对外合作企业利润收入 | C27: 0 | D27: 0 | E27: 0 | F27: 2230207 | G27: 对外投资合作支出 | H27: 0 | I27: 0 | J27: 0
A28: 103060124 | B28: 医药企业利润收入 | C28: 0 | D28: 0 | E28: 0 | F28: 2230299 | G28: 其他国有企业资本金注入 | H28: 0 | I28: 0 | J28: 0
A29: 103060125 | B29: 农林牧渔企业利润收入 | C29: 0 | D29: 0 | E29: 0 | F29: 22303 | G29: 国有企业政策性补贴(款) | H29: =H30 -> 0 | I29: =I30 -> 0 | J29: =J30 -> 0
A30: 103060126 | B30: 邮政企业利润收入 | C30: 0 | D30: 0 | E30: 0 | F30: 2230301 | G30: 国有企业政策性补贴(项) | H30: 0 | I30: 0 | J30: 0
A31: 103060127 | B31: 军工企业利润收入 | C31: 0 | D31: 0 | E31: 0 | F31: 22304 | G31: 金融国有资本经营预算支出 | H31: =H32+H33+H34 -> 0 | I31: =I32+I33+I34 -> 0 | J31: =J32+J33+J34 -> 0
A32: 103060128 | B32: 转制科研院所利润收入 | C32: 0 | D32: 0 | E32: 0 | F32: 2230401 | G32: 资本性支出 | H32: 0 | I32: 0 | J32: 0
A33: 103060129 | B33: 地质勘查企业利润收入 | C33: 0 | D33: 0 | E33: 0 | F33: 2230402 | G33: 改革性支出 | H33: 0 | I33: 0 | J33: 0
A34: 103060130 | B34: 卫生体育福利企业利润收入 | C34: 0 | D34: 0 | E34: 0 | F34: 2230499 | G34: 其他金融国有资本经营预算支出 | H34: 0 | I34: 0 | J34: 0
A35: 103060131 | B35: 教育文化广播企业利润收入 | C35: 0 | D35: 0 | E35: 0 | F35: 22399 | G35: 其他国有资本经营预算支出(款) | H35: =H36 -> 0 | I35: =I36 -> 0 | J35: =J36 -> 0
A36: 103060132 | B36: 科学研究企业利润收入 | C36: 0 | D36: 0 | E36: 0 | F36: 2239901 | G36: 其他国有资本经营预算支出(项) | H36: 0 | I36: 0 | J36: 0
A37: 103060133 | B37: 机关社团所属企业利润收入 | C37: 0 | D37: 0 | E37: 0
A38: 103060134 | B38: 金融企业利润收入 | C38: 0 | D38: 0 | E38: 0
A39: 103060198 | B39: 其他国有资本经营预算企业利润收入 | C39: 0 | D39: 0 | E39: 0
A40: 1030602 | B40: 股利、股息收入 | C40: =SUM(C41:C44) -> 0 | D40: =SUM(D41:D44) -> 0 | E40: =SUM(E41:E44) -> 0
...

Sheet L15
A1: 2020年度霍州市国有资本经营预算转移性收支决算录入表
A2: 录入15表
A3: 单位：万元
A4: 项目 | B4: 决算数 | C4: 项目 | D4: 决算数
A5: 国有资本经营预算收入 | B5: ='L14'!E5 -> 0 | C5: 国有资本经营预算支出 | D5: ='L14'!J5 -> 11339
A6: 国有资本经营预算上级补助收入 | B6: 3497 | C6: 国有资本经营预算补助下级支出 | D6: 0
A7: 国有资本经营预算下级上解收入 | B7: 0 | C7: 国有资本经营预算上解上级支出 | D7: 0
A8: 国有资本经营预算上年结余 | B8: 7934 | C8: 国有资本经营预算调出资金 | D8: 0
A9: 国有资本经营预算省补助计划单列市收入 | B9: 0 | C9: 国有资本经营预算省补助计划单列市支出 | D9: 0
A10: 国有资本经营预算计划单列市上解省收入 | B10: 0 | C10: 国有资本经营预算计划单列市上解省支出 | D10: 0
C11: 国有资本经营预算年终结余 | D11: =B12-SUM(D5:D10) -> 92
A12: 收 入 总 计 | B12: =SUM(B5:B10) -> 11431 | C12: 支 出 总 计 | D12: =SUM(D5:D11) -> 11431

Sheet sheet4
A9: 第四部分:政府性收支及资产负债表

Sheet L16
A1: 2020年度霍州市社会保险基金预算收支及结余情况录入表
A2: 录入16表
A3: 单位：万元
A4: 项 目 | B4: 合计 | C4: 企业职工基本养老保险基金 | D4: 城乡居民基本养老保险基金 | E4: 机关事业单位基本养老保险基金 | F4: 职工基本医疗保险(含生育保险)基金 | G4: 城乡居民基本医疗保险基金 | H4: 工伤保险基金 | I4: 失业保险基金
A5: 一、收入 | B5: =SUM(C5:I5) -> 32250 | C5: 0 | D5: 6123 | E5: 26127 | F5: 0 | G5: 0 | H5: 0 | I5: 0
A6: 其中:社会保险费收入 | B6: =SUM(C6:I6) -> 14852 | C6: 0 | D6: 1887 | E6: 12965 | F6: 0 | G6: 0 | H6: 0 | I6: 0
A7: 利息收入 | B7: =SUM(C7:I7) -> 266 | C7: 0 | D7: 251 | E7: 15 | F7: 0 | G7: 0 | H7: 0 | I7: 0
